BEGIN:VCALENDAR
VERSION:2.0
PRODID:-//ChamberMaster//Event Calendar 2.0//EN
METHOD:PUBLISH
X-PUBLISHED-TTL:P3D
REFRESH-INTERVAL:P3D
CALSCALE:GREGORIAN
BEGIN:VEVENT
DTSTART:20110812T133000Z
DTEND:20110812T143000Z
X-MICROSOFT-CDO-ALLDAYEVENT:FALSE
SUMMARY:Greater Shelby Chamber ~ Network 280 at RBC Bank Meadowbrook
DESCRIPTION:Join us for a Network 280 meeting at RBC Bank of Meadowbrook.\n\n\n\nMeet our host:\n\n\n\nRBC Bank is a new kind of financial services company - one that goes far beyond traditional banking services to offer our clients true financial solutions that make a difference in their lives. RBC Bank gives you all the resources you need to meet your personal and business financial goals.\n\n\n\nThe Greater Shelby County Chamber of Commerce is coordinating Network 280 meetings to promote the interests of companies conducting business all along the Highway 280 corridor -- generating visibility and other initiatives that will help boost business. Click here to find out more about Network 280 meetings.
X-ALT-DESC;FMTTYPE=text/html:Join us for a <strong>Network 280</strong> meeting at <a href="http://www.rbcbankusa.com/">RBC Bank of Meadowbrook</a>.<br />\n<br />\nMeet our host:<br />\n<br />\n<a href="http://maps.rbc.com/bankusa/mapdetails.en.asp?transit=7400&amp\;distance=6.67">RBC Bank</a> is a new kind of financial services company - one that goes far beyond traditional banking services to offer our clients true financial solutions that make a difference in their lives. RBC Bank gives you all the resources you need to meet your personal and business financial goals.<br />\n<br />\nThe Greater Shelby County Chamber of Commerce is coordinating <strong>Network 280</strong> meetings to promote the interests of companies conducting business all along the Highway 280 corridor -- generating visibility and other initiatives that will help boost business. <a href="http://www.shelbychamber.org/default.asp?ID=47">Click here to find out more about Network 280 meetings.</a><br />\n
LOCATION:RBC Bank of Meadowbrook 2000 Meadow Lake Drive Birmingham AL 35242 (205) 991-5832
UID:e.145.3464
SEQUENCE:3
DTSTAMP:20260425T215252Z
URL:https://business.shelbychamber.org/events/details/greater-shelby-chamber-network-280-at-rbc-bank-meadowbrook-08-12-2011-3464
END:VEVENT

END:VCALENDAR
