BEGIN:VCALENDAR
VERSION:2.0
PRODID:-//ChamberMaster//Event Calendar 2.0//EN
METHOD:PUBLISH
X-PUBLISHED-TTL:P3D
REFRESH-INTERVAL:P3D
CALSCALE:GREGORIAN
BEGIN:VEVENT
DTSTART:20120314T133000Z
DTEND:20120314T143000Z
X-MICROSOFT-CDO-ALLDAYEVENT:FALSE
SUMMARY:Greater Shelby Chamber ~ Network 280 at Regions Bank Greystone
DESCRIPTION:Join us for a Network 280 meeting at Regions Bank\, Greystone\, 5420 Highway 208.\n\n\n\nMeet our host:\n\n\n\nWe know that our customers have a choice when it comes to banking.\n\nThat's why it's important to have a real answer when people ask\, "Why bank at Regions?"\n\nStability matters\n\n\n\nA bank should be a stable and vital part of your community\, not just do business there.\n\nEasier banking matters\n\n\n\nWe always keep in mind that\, while life is sometimes complicated\, banking shouldn't be.\n\nExpertise matters\n\n\n\nYou can always count on your Regions banker to give you sound advice to help get where you're going in life.\n\nPersonal service matters\n\n\n\nThere's no such thing as a one-size-fits-all banking solution. That's why we work with our customers to find the right answers for their individual needs.\n\n\n\nThank you for expecting more\, and thank you for choosing Regions.\n\n\n\nThe Greater Shelby County Chamber of Commerce coordinates Network 280 meetings to promote the interests of companies conducting business all along the Highway 280 corridor -- generating visibility and other initiatives that will help boost business. Click here to find out more about Network 280 meetings.
X-ALT-DESC;FMTTYPE=text/html:Join us for a <strong>Network 280</strong> meeting at <a href="https://www.regions.com/personal_banking.rf">Regions Bank</a>\, Greystone\, 5420 Highway 208.<br />\n<br />\nMeet our host:<br />\n<br />\nWe know that our customers have a choice when it comes to banking.<br />\nThat&#39\;s why it&#39\;s important to have a real answer when people ask\, &quot\;<a href="https://www.regions.com/personal_banking.rf">Why bank at Regions</a>?&quot\;<br />\nStability matters<br />\n<br />\nA bank should be a stable and vital part of your community\, not just do business there.<br />\nEasier banking matters<br />\n<br />\nWe always keep in mind that\, while life is sometimes complicated\, banking shouldn&#39\;t be.<br />\nExpertise matters<br />\n<br />\nYou can always count on your Regions banker to give you sound advice to help get where you&#39\;re going in life.<br />\nPersonal service matters<br />\n<br />\nThere&#39\;s no such thing as a one-size-fits-all banking solution. That&#39\;s why we work with our customers to find the right answers for their individual needs.<br />\n<br />\nThank you for expecting more\, and thank you for choosing <a href="https://www.regions.com/personal_banking.rf">Regions</a>.<br />\n<br />\nThe Greater Shelby County Chamber of Commerce coordinates <strong>Network 280</strong> meetings to promote the interests of companies conducting business all along the Highway 280 corridor -- generating visibility and other initiatives that will help boost business. <a href="http://www.shelbychamber.org/default.asp?ID=47">Click here to find out more about Network 280 meetings.</a><br />\n
LOCATION:Regions Financial of Greystone 5420 Highway 280 Birmingham AL 35242 (205) 980-4400
UID:e.145.3938
SEQUENCE:3
DTSTAMP:20260425T102553Z
URL:https://business.shelbychamber.org/events/details/greater-shelby-chamber-network-280-at-regions-bank-greystone-03-14-2012-3938
END:VEVENT

END:VCALENDAR
