BEGIN:VCALENDAR
VERSION:2.0
PRODID:-//ChamberMaster//Event Calendar 2.0//EN
METHOD:PUBLISH
X-PUBLISHED-TTL:P3D
REFRESH-INTERVAL:P3D
CALSCALE:GREGORIAN
BEGIN:VEVENT
DTSTART:20110810T133000Z
DTEND:20110810T143000Z
X-MICROSOFT-CDO-ALLDAYEVENT:FALSE
SUMMARY:Greater Shelby Chamber ~ Network 280 at SouthFirst Mortgage
DESCRIPTION:Join us for a Network 280 meeting at SouthFirst Mortgage.\n\n\n\nMeet our host:\n\n\n\nSouthFirst Mortgage was established in 1994 as a residential construction lending office. It is a division of SouthFirst Bancshares Inc.\, a wholly owned subsidiary of SouthFirst Bank \, with offices in Sylacauga\, Talladega\, Clanton and Birmingham.\n\n\n\nSouthFirst offers a wide range of loan products to suit the needs of various buyers. We have the flexibility of a portfolio lender (for a "common sense" loan file that is not quite Fannie Mae/Freddie Mac)\, and can offer a variety of product options and excellent rates to our Freddie Mac/Fannie Mae borrowers through many investors that we have correspondent relationships with. We also offer B and C paper investor products.\n\n\n\nSouthFirst Mortgage is a member of the Mortgage Bankers Association\, Birmingham Board of Realtors\, and the Homebuilders Association.\n\n\n\nThe Greater Shelby County Chamber of Commerce is coordinating Network 280 meetings to promote the interests of companies conducting business all along the Highway 280 corridor -- generating visibility and other initiatives that will help boost business. Click here to find out more about Network 280 meetings.
X-ALT-DESC;FMTTYPE=text/html:Join us for a <strong>Network 280</strong> meeting at <a href="http://www.southfirst.com/sAboutUs.asp">SouthFirst Mortgage</a>.<br />\n<br />\nMeet our host:<br />\n<br />\n<a href="http://SouthFirst Mortgage was established in 1994 as a residential construction lending office. It is a division of SouthFirst Bancshares Inc.\, a wholly owned subsidiary of SouthFirst Bank \, with offices in Sylacauga\, Talladega\, Clanton and Birmingham.  SouthFirst offers a wide range of loan products to suit the needs of various buyers. We have the flexibility of a portfolio lender (for a &quot\;common sense&quot\; loan file that is not quite Fannie Mae/Freddie Mac)\, and can offer a variety of product options and excellent rates to our Freddie Mac/Fannie Mae borrowers through many investors that we have correspondent relationships with. We also offer B and C paper investor products.  SouthFirst Mortgage is a member of the Mortgage Bankers Association\, Birmingham Board of Realtors\, and the Homebuilders Association. ">SouthFirst Mortgage</a> was established in 1994 as a residential construction lending office. It is a division of SouthFirst Bancshares Inc.\, a wholly owned subsidiary of SouthFirst Bank \, with offices in Sylacauga\, Talladega\, Clanton and Birmingham.<br />\n<br />\n<a href="http://SouthFirst Mortgage was established in 1994 as a residential construction lending office. It is a division of SouthFirst Bancshares Inc.\, a wholly owned subsidiary of SouthFirst Bank \, with offices in Sylacauga\, Talladega\, Clanton and Birmingham.  SouthFirst offers a wide range of loan products to suit the needs of various buyers. We have the flexibility of a portfolio lender (for a &quot\;common sense&quot\; loan file that is not quite Fannie Mae/Freddie Mac)\, and can offer a variety of product options and excellent rates to our Freddie Mac/Fannie Mae borrowers through many investors that we have correspondent relationships with. We also offer B and C paper investor products.  SouthFirst Mortgage is a member of the Mortgage Bankers Association\, Birmingham Board of Realtors\, and the Homebuilders Association. ">SouthFirst</a> offers a wide range of loan products to suit the needs of various buyers. We have the flexibility of a portfolio lender (for a &quot\;common sense&quot\; loan file that is not quite Fannie Mae/Freddie Mac)\, and can offer a variety of product options and excellent rates to our Freddie Mac/Fannie Mae borrowers through many investors that we have correspondent relationships with. We also offer B and C paper investor products.<br />\n<br />\n<a href="http://SouthFirst Mortgage was established in 1994 as a residential construction lending office. It is a division of SouthFirst Bancshares Inc.\, a wholly owned subsidiary of SouthFirst Bank \, with offices in Sylacauga\, Talladega\, Clanton and Birmingham.  SouthFirst offers a wide range of loan products to suit the needs of various buyers. We have the flexibility of a portfolio lender (for a &quot\;common sense&quot\; loan file that is not quite Fannie Mae/Freddie Mac)\, and can offer a variety of product options and excellent rates to our Freddie Mac/Fannie Mae borrowers through many investors that we have correspondent relationships with. We also offer B and C paper investor products.  SouthFirst Mortgage is a member of the Mortgage Bankers Association\, Birmingham Board of Realtors\, and the Homebuilders Association. ">SouthFirst Mortgage</a> is a member of the Mortgage Bankers Association\, Birmingham Board of Realtors\, and the Homebuilders Association.<br />\n<br />\nThe Greater Shelby County Chamber of Commerce is coordinating <strong>Network 280</strong> meetings to promote the interests of companies conducting business all along the Highway 280 corridor -- generating visibility and other initiatives that will help boost business. <a href="http://www.shelbychamber.org/default.asp?ID=47">Click here to find out more about Network 280 meetings.</a><br />\n
LOCATION:Southfirst Mortgage 2807 Greystone Commercial Blvd\, Ste 38 Birmingham AL 35242 (205) 991-5911
UID:e.145.3466
SEQUENCE:3
DTSTAMP:20260425T214852Z
URL:https://business.shelbychamber.org/events/details/greater-shelby-chamber-network-280-at-southfirst-mortgage-08-10-2011-3466
END:VEVENT

END:VCALENDAR
