BEGIN:VCALENDAR
VERSION:2.0
PRODID:-//ChamberMaster//Event Calendar 2.0//EN
METHOD:PUBLISH
X-PUBLISHED-TTL:P3D
REFRESH-INTERVAL:P3D
CALSCALE:GREGORIAN
BEGIN:VEVENT
DTSTART:20110913T133000Z
DTEND:20110913T143000Z
X-MICROSOFT-CDO-ALLDAYEVENT:FALSE
SUMMARY:Greater Shelby Chamber ~ Network 280 at St. Vincent's One Nineteen
DESCRIPTION:Join us for a Network 280 meeting at St. Vincent's One Nineteen.\n\n\n\nMeet our host:\n\n\n\nSt. Vincent's One Nineteen is dedicated to providing our patients\, members\, and clients with unprecedented personal service and genuine compassionate care.\n\n\n\nSt. Vincent's One Nineteen Health and Wellness has redefined the traditional role of medical facilities and services to become a destination of choice for health-conscious consumers.\n\n\n\nThe Greater Shelby County Chamber of Commerce is coordinating Network 280 meetings to promote the interests of companies conducting business all along the Highway 280 corridor -- generating visibility and other initiatives that will help boost business. Click here to find out more about Network 280 meetings.
X-ALT-DESC;FMTTYPE=text/html:Join us for a <strong>Network 280</strong> meeting at <a href="http://www.onenineteen.com/">St. Vincent&#39\;s One Nineteen</a>.<br />\n<br />\nMeet our host:<br />\n<br />\n<a href="http://www.onenineteen.com/">St. Vincent&#39\;s One Nineteen</a> is dedicated to providing our patients\, members\, and clients with unprecedented personal service and genuine compassionate care.<br />\n<br />\n<a href="http://www.onenineteen.com/">St. Vincent&rsquo\;s One Nineteen Health and Wellness</a> has redefined the traditional role of medical facilities and services to become a destination of choice for health-conscious consumers.<br />\n<br />\nThe Greater Shelby County Chamber of Commerce is coordinating <strong>Network 280</strong> meetings to promote the interests of companies conducting business all along the Highway 280 corridor -- generating visibility and other initiatives that will help boost business. <a href="http://www.shelbychamber.org/default.asp?ID=47">Click here to find out more about Network 280 meetings.</a><br />\n
LOCATION:St. Vincent's One Nineteen 7191 Cahaba Valley Road Birmingham AL 35242 (205) 408-6600
UID:e.145.3493
SEQUENCE:3
DTSTAMP:20260425T213931Z
URL:https://business.shelbychamber.org/events/details/greater-shelby-chamber-network-280-at-st-vincent-s-one-nineteen-09-13-2011-3493
END:VEVENT

END:VCALENDAR
