BEGIN:VCALENDAR
VERSION:2.0
PRODID:-//ChamberMaster//Event Calendar 2.0//EN
METHOD:PUBLISH
X-PUBLISHED-TTL:P3D
REFRESH-INTERVAL:P3D
CALSCALE:GREGORIAN
BEGIN:VEVENT
DTSTART:20120906T133000Z
DTEND:20120906T143000Z
X-MICROSOFT-CDO-ALLDAYEVENT:FALSE
SUMMARY:Greater Shelby Chamber ~ Network 280 at Wingate by Wyndham
DESCRIPTION:Join us for a Network 280 meeting at Wingate by Wyndham.\n\n\n\nMeet our host: Wingate by Wyndham\n\n\n\nGetting To Know Wingate by Wyndham :\n\n\n\nBackground on Wingate by Wyndham\n\nWingate Inn  opened its first hotel in 1996. In 2007\, the brand affiliated itself with the Wyndham Hotels and Resorts  brand\, changing its name to Wingate by Wyndham and extending its consumer reach. Today\, the brand consists of over 160 properties in the U.S.\, Canada and Mexico.\n\n\n\nStart Your Day with a Hot Breakfast\n\nGet warmed up for your busy day with Wingate's complimentary breakfast buffet! Help yourself to some hot scrambled eggs\, waffles\, sausage and bacon - or keep it simple with some fruit\, cereal\, juices\, yogurt\, or a bagel. Whatever gets you fueled up\, we've got it. (And\, of course\, there's always lots of hot coffee!)\n\n\n\nStay Connected\n\nWhether you need to get those important files to your client\, you want to have a video chat with the kids back at home\, or you're itching to upload some photos to Facebook\, Wingate keeps you connected with high-speed Internet access at all of our hotels.\n\n\n\nBusiness as Usual   Even on the Road!\n\nJust because you're out of the office\, Wingate knows business never stops. Whether you need to meet a deadline\, close a deal\, edit a presentation\, or just print a boarding pass\, our 24-hour business centers are the perfect place to take care of your faxing\, copying\, printing and computing needs   and it's all on the house.\n\n\n\nCollaborate at Wingate\n\nNeed a place to gather with your clients\, or simply to brainstorm with co-workers? Each Wingate location has a well-appointed meeting facility\, equipped with a conference table and high-speed Internet access. Our staff will be happy to help make your next meeting a success.\n\n\n\nHot Amenities\, Cool Convenience\n\nBusiness travel sometimes means odd hours and fitting in a snack whenever you can. With a microwave and small refrigerator in each room\, Wingate makes it easy to store your leftover dinner for later\, keep drinks cool\, or heat up a late-night snack   all without having to leave your room.\n\n\n\nFitting Fitness into Business\n\nGetting a good workout can be tough when you're on the road   unless you're staying with Wingate. Equipped with cardio machines and weights\, our on-site fitness centers are a perfect way to keep up with your fitness routine and stay in shape.\n\n\n\nStay with Us and Make a Splash\n\nBring a swimsuit so you can take a dip in our pool. Whether your goal is to work out by doing some laps or to simply unwind and let the day's stress wash away\, you'll have a swimmingly good time at most Wingate locations!\n\n\n\nYou'll Love Your Stay   We Guarantee It\n\nWingate strives to ensure that your stay is pleasant\, comfortable and productive. In the unlikely event you're not satisfied with your stay\, and\, after being given the opportunity\, we can't remedy the situation to your liking\, your stay is on us. That's Wingate's 100% satisfaction guarantee!\n\n\n\nBreathe Well\n\nBusiness can be stressful\, but when you stay at Wingate\, you can take a deep\, exhilarating breath. All of our properties are 100% smoke free\, providing a cleaner\, healthier\, more inviting atmosphere.\n\n\n\nGet Rewarded for Your Stay\n\nIf you haven't already joined Wyndham Rewards \, our guest loyalty program\, take a minute to sign up to make your stay even more beneficial. When you stay at a Wingate by Wyndham hotel\, you can earn points that can be redeemed for hotel stays\, airfare\, resort vacations and a host of other retail and restaurant experiences. Also\, as a Wyndham Rewards member you will receive a complimentary USA Today newspaper when you stay at a Wingate by Wyndham property. To join or to learn more click here www.wyndhamrewards.com.\n\n\n\nThe Greater Shelby County Chamber of Commerce coordinates Network 280 meetings to promote the interests of companies conducting business all along the Highway 280 corridor -- generating visibility and other initiatives that will help boost business. Click here to find out more about Network 280 meetings.
X-ALT-DESC;FMTTYPE=text/html:Join us for a <strong>Network 280</strong> meeting at <a href="http://www.wingatehotels.com/">Wingate by Wyndham</a>.<br />\n<br />\nMeet our host: <a href="http://www.wingatehotels.com/">Wingate by Wyndham</a><br />\n<br />\nGetting To Know Wingate by Wyndham&reg\;:<br />\n<br />\nBackground on Wingate by Wyndham<br />\nWingate Inn&reg\; opened its first hotel in 1996. In 2007\, the brand affiliated itself with the Wyndham Hotels and Resorts&reg\; brand\, changing its name to Wingate by Wyndham and extending its consumer reach. Today\, the brand consists of over 160 properties in the U.S.\, Canada and Mexico.<br />\n<br />\nStart Your Day with a Hot Breakfast<br />\nGet warmed up for your busy day with Wingate&#39\;s complimentary breakfast buffet! Help yourself to some hot scrambled eggs\, waffles\, sausage and bacon - or keep it simple with some fruit\, cereal\, juices\, yogurt\, or a bagel. Whatever gets you fueled up\, we&#39\;ve got it. (And\, of course\, there&#39\;s always lots of hot coffee!)<br />\n<br />\nStay Connected<br />\nWhether you need to get those important files to your client\, you want to have a video chat with the kids back at home\, or you&#39\;re itching to upload some photos to Facebook\, Wingate keeps you connected with high-speed Internet access at all of our hotels.<br />\n<br />\nBusiness as Usual &mdash\; Even on the Road!<br />\nJust because you&#39\;re out of the office\, Wingate knows business never stops. Whether you need to meet a deadline\, close a deal\, edit a presentation\, or just print a boarding pass\, our 24-hour business centers are the perfect place to take care of your faxing\, copying\, printing and computing needs &mdash\; and it&#39\;s all on the house.<br />\n<br />\nCollaborate at Wingate<br />\nNeed a place to gather with your clients\, or simply to brainstorm with co-workers? Each Wingate location has a well-appointed meeting facility\, equipped with a conference table and high-speed Internet access. Our staff will be happy to help make your next meeting a success.<br />\n<br />\nHot Amenities\, Cool Convenience<br />\nBusiness travel sometimes means odd hours and fitting in a snack whenever you can. With a microwave and small refrigerator in each room\, Wingate makes it easy to store your leftover dinner for later\, keep drinks cool\, or heat up a late-night snack &mdash\; all without having to leave your room.<br />\n<br />\nFitting Fitness into Business<br />\nGetting a good workout can be tough when you&#39\;re on the road &mdash\; unless you&#39\;re staying with Wingate. Equipped with cardio machines and weights\, our on-site fitness centers are a perfect way to keep up with your fitness routine and stay in shape.<br />\n<br />\nStay with Us and Make a Splash<br />\nBring a swimsuit so you can take a dip in our pool. Whether your goal is to work out by doing some laps or to simply unwind and let the day&#39\;s stress wash away\, you&#39\;ll have a swimmingly good time at most Wingate locations!<br />\n<br />\nYou&#39\;ll Love Your Stay &ndash\; We Guarantee It<br />\nWingate strives to ensure that your stay is pleasant\, comfortable and productive. In the unlikely event you&#39\;re not satisfied with your stay\, and\, after being given the opportunity\, we can&#39\;t remedy the situation to your liking\, your stay is on us. That&#39\;s Wingate&#39\;s 100% satisfaction guarantee!<br />\n<br />\nBreathe Well<br />\nBusiness can be stressful\, but when you stay at Wingate\, you can take a deep\, exhilarating breath. All of our properties are 100% smoke free\, providing a cleaner\, healthier\, more inviting atmosphere.<br />\n<br />\nGet Rewarded for Your Stay<br />\nIf you haven&#39\;t already joined Wyndham Rewards&reg\;\, our guest loyalty program\, take a minute to sign up to make your stay even more beneficial. When you stay at a Wingate by Wyndham hotel\, you can earn points that can be redeemed for hotel stays\, airfare\, resort vacations and a host of other retail and restaurant experiences. Also\, as a Wyndham Rewards member you will receive a complimentary USA Today newspaper when you stay at a Wingate by Wyndham property. To join or to learn more click here www.wyndhamrewards.com.<br />\n<br />\nThe Greater Shelby County Chamber of Commerce coordinates <strong>Network 280</strong> meetings to promote the interests of companies conducting business all along the Highway 280 corridor -- generating visibility and other initiatives that will help boost business. <a href="http://www.shelbychamber.org/default.asp?ID=47">Click here to find out more about Network 280 meetings.</a><br />\n
LOCATION:Wingate by Wyndham 800 Corporate Ridge Drive Birmingham\, AL 35242 (205) 995-8586
UID:e.145.4360
SEQUENCE:3
DTSTAMP:20260425T011113Z
URL:https://business.shelbychamber.org/events/details/greater-shelby-chamber-network-280-at-wingate-by-wyndham-09-06-2012-4360
END:VEVENT

END:VCALENDAR
