BEGIN:VCALENDAR
VERSION:2.0
PRODID:-//ChamberMaster//Event Calendar 2.0//EN
METHOD:PUBLISH
X-PUBLISHED-TTL:P3D
REFRESH-INTERVAL:P3D
CALSCALE:GREGORIAN
BEGIN:VEVENT
DTSTART:20161103T213000Z
DTEND:20161103T230000Z
X-MICROSOFT-CDO-ALLDAYEVENT:FALSE
SUMMARY:Greater Shelby Chamber - NETWORK280 at Birmingham Marriott
DESCRIPTION:"NETWORK280" Offers Prime\n\nOpportunity for New Business Contacts\n\n \nAre you looking to expand your contacts on the Highway 280 corridor? NETWORK280 can help you with that by providing businesses with an excellent opportunity to make them! The next NETWORK280\, presented by 280 Living\, will be held on Thursday\, November 3 from 4:30PM until 6:00PM at host sponsor\, Birmingham Marriott Hotel\, (3590 Grandview Parkway\, Birmingham\, AL 35243). Bring plenty of cards and plan on meeting lots of new contacts at this event.\n\n\n\nThe cost is $10 per person for Chamber investors and $20 per person for "Future" investors and includes heavy hors d'oeuvres and two beverage tickets. Reservations are requested by November 1\, so please contact the Chamber via email at info@shelbychamber.org\, by phone at 663-4542 or register online.
X-ALT-DESC;FMTTYPE=text/html:<div style="text-align: center\;"><br />\n<br />\n<strong><em>&quot\;</em><em>NETWORK</em>280&quot\; Offers Prime<br />\nOpportunity for New Business Contacts</strong><br />\n&nbsp\;</div>\nAre you looking to expand your contacts on the Highway 280 corridor? NETWORK280 can help you with that by providing businesses with an excellent opportunity to make them! The next <strong><em>NETWORK</em>280</strong>\, presented by 280 Living\, will be held on Thursday\, November 3 from 4:30PM until 6:00PM at host sponsor\, Birmingham Marriott Hotel\, (3590 Grandview Parkway\, Birmingham\, AL 35243). Bring plenty of cards and plan on meeting lots of new contacts at this event.<br />\n<br />\nThe cost is $10 per person for Chamber investors and $20 per person for &quot\;Future&quot\; investors and includes heavy hors d&rsquo\;oeuvres and two beverage tickets. Reservations are requested by November 1\, so please contact the Chamber via email at info@shelbychamber.org\, by phone at 663-4542 or register online.\n<p>&nbsp\;</p>\n
LOCATION:Birmingham Marriott Hotel 3590 Grandview Parkway Birmingham\, AL 35243
UID:e.145.9791
SEQUENCE:3
DTSTAMP:20260421T151124Z
URL:https://business.shelbychamber.org/events/details/greater-shelby-chamber-network280-at-birmingham-marriott-9791
END:VEVENT

END:VCALENDAR
