BEGIN:VCALENDAR
VERSION:2.0
PRODID:-//ChamberMaster//Event Calendar 2.0//EN
METHOD:PUBLISH
X-PUBLISHED-TTL:P3D
REFRESH-INTERVAL:P3D
CALSCALE:GREGORIAN
BEGIN:VEVENT
DTSTART:20160818T213000Z
DTEND:20160818T230000Z
X-MICROSOFT-CDO-ALLDAYEVENT:FALSE
SUMMARY:Greater Shelby Chamber - NETWORK280 at Carrabba's Italian Grill
DESCRIPTION:"NETWORK280" Offers Prime\n\nOpportunity for New Business Contacts\n\n \n\n\n\n\nAre you looking to expand your contacts on the 280 corridor? NETWORK280 can help you with that.\n\n\n\nThe next NETWORK280 program\, presented in 2016 by 280 Living\, will be held on Thursday\, August 18 from 4:30PM-6:00PM. This NETWORK280 event is hosted & sponsored by Carrabba's Italian Grill (4503 Riverview Parkway\, Birmingham\, AL 35242).\n\n\n\nBring plenty of cards and plan on meeting lots of new contacts at this event. The cost is $10 per person for Chamber investors and $20 for "Future" investors. Includes hot\, heavy hors d'oeuvres and two complimentary beverages of your choice.\n\n\n\nReservations are requested by noon on Tuesday\, August 16\, so please contact the Chamber via e-mail at info@shelbychamber.org or by phone at 663-4542 or register online.
X-ALT-DESC;FMTTYPE=text/html:<div style="text-align: center\;"><br />\n<br />\n<strong><em>&quot\;</em><em>NETWORK</em>280&quot\; Offers Prime<br />\nOpportunity for New Business Contacts</strong><br />\n&nbsp\;</div>\n<br />\n<br />\nAre you looking to expand your contacts on the 280 corridor? <strong><em>NETWORK</em>280 </strong>can help you with that.<br />\n<br />\nThe next <strong><em>NETWORK</em>280</strong> program\, presented in 2016 by <a href="http://280living.com/">280 Living</a>\, will be held on Thursday\, August 18 from 4:30PM-6:00PM. This <em><strong>NETWORK280</strong></em> event is hosted &amp\; sponsored by <a href="https://www.carrabbas.com/">Carrabba&#39\;s Italian Grill</a>&nbsp\;(4503 Riverview Parkway\, Birmingham\, AL 35242).<br />\n<br />\nBring plenty of cards and plan on meeting lots of new contacts at this event. The cost is $10 per person for Chamber investors and $20 for &quot\;Future&quot\; investors.&nbsp\;Includes hot\, heavy hors d&rsquo\;oeuvres and two complimentary beverages of your choice.<br />\n<br />\nReservations are requested by noon on Tuesday\, August 16\, so please contact the Chamber via e-mail at info@shelbychamber.org or by phone at 663-4542 or register online.\n<p>&nbsp\;</p>\n
LOCATION:Carrabba's Italian Grill 4503 Riverview Parkway Birmingham\, AL 35242
UID:e.145.9580
SEQUENCE:3
DTSTAMP:20260421T234730Z
URL:https://business.shelbychamber.org/events/details/greater-shelby-chamber-network280-at-carrabba-s-italian-grill-08-18-2016-9580
END:VEVENT

END:VCALENDAR
