BEGIN:VCALENDAR
VERSION:2.0
PRODID:-//ChamberMaster//Event Calendar 2.0//EN
METHOD:PUBLISH
X-PUBLISHED-TTL:P3D
REFRESH-INTERVAL:P3D
CALSCALE:GREGORIAN
BEGIN:VEVENT
DTSTART:20151022T213000Z
DTEND:20151022T230000Z
X-MICROSOFT-CDO-ALLDAYEVENT:FALSE
SUMMARY:Greater Shelby Chamber - NETWORK280 at Regus
DESCRIPTION:"NETWORK280" Offers Prime\n\nOpportunity for New Business Contacts\n\n \n\n\n\n\nAre you looking to expand your contacts on the Highway 280 corridor? NETWORK280\, co-hosted by 280 Living and the Greater Shelby County Chamber can help you with that by providing businesses with an excellent opportunity to make them!\n\n\n\nThe next NETWORK280 program will be held on Thursday\, October 22 from 4:30PM-6:00PM at Regus' (2700 Corporate Drive\, Suite 200\, Birmingham\, AL 35242).\n\n\n\nBring plenty of cards and plan on meeting lots of new contacts at this event. The cost is $10 per person for Chamber members and $20 for "Future" members. Includes hot\, heavy hors d'oeuvres and two complimentary beverages of your choice.\n\n\n\nReservations are requested\, so please contact the Chamber via e-mail at info@shelbychamber.org or by phone at 663-4542 or register above online.
X-ALT-DESC;FMTTYPE=text/html:<div style="text-align: center\;"><br />\n<br />\n<strong><em>&quot\;</em><em>NETWORK</em>280&quot\; Offers Prime<br />\nOpportunity for New Business Contacts</strong><br />\n&nbsp\;</div>\n<br />\n<br />\nAre you looking to expand your contacts on the Highway 280 corridor? <strong><em>NETWORK</em>280</strong>\, co-hosted by <a href="http://www.280living.com"><strong>280 Living</strong></a> and the <strong><a href="http://www.shelbychamber.org/">Greater Shelby County Chamber</a></strong> can help you with that by providing businesses with an excellent opportunity to make them!<br />\n<br />\nThe next <strong><em>NETWORK</em>280</strong> program will be held on <em><strong>Thursday\, October 22 from 4:30PM-6:00PM at <a href="http://www.regus.com/locations/office-space/alabama-birmingham-meadow-brook">Regus</a>&rsquo\; (2700 Corporate Drive\, Suite 200\, Birmingham\, AL 35242).</strong></em><br />\n<br />\nBring plenty of cards and plan on meeting lots of new contacts at this event. The cost is $10 per person for Chamber members and $20 for &quot\;Future&quot\; members.&nbsp\;Includes hot\, heavy hors d&rsquo\;oeuvres and two complimentary beverages of your choice.<br />\n<br />\nReservations are requested\, so please contact the Chamber via e-mail at info@shelbychamber.org or by phone at 663-4542 or register above online.\n<p>&nbsp\;</p>\n
LOCATION:Regus 2700 Corporate Drive\, Suite 200 Birmingham\, AL 35242
UID:e.145.7855
SEQUENCE:3
DTSTAMP:20260422T154338Z
URL:https://business.shelbychamber.org/events/details/greater-shelby-chamber-network280-at-regus-10-22-2015-7855
END:VEVENT

END:VCALENDAR
