BEGIN:VCALENDAR
VERSION:2.0
PRODID:-//ChamberMaster//Event Calendar 2.0//EN
METHOD:PUBLISH
X-PUBLISHED-TTL:P3D
REFRESH-INTERVAL:P3D
CALSCALE:GREGORIAN
BEGIN:VEVENT
DTSTART:20160216T223000Z
DTEND:20160217T000000Z
X-MICROSOFT-CDO-ALLDAYEVENT:FALSE
SUMMARY:Greater Shelby Chamber - NETWORK280 at Taziki's Mediterranean Cafe at The Village of Lee Branch
DESCRIPTION:"NETWORK280" Offers Prime\n\nOpportunity for New Business Contacts\n\n \n\n\n\n\nAre you looking to expand your contacts on the 280 corridor? NETWORK280 can help you with that.\n\n\n\nThe next NETWORK280 program\, presented throughout 2016 by 280 Living\, will be held on Tuesday\, February 16 from 4:30PM-6:00PM. This NETWORK280 event is sponsored by Taziki's Mediterranean Cafe at The Village of Lee Branch (601 Doug Baker Blvd.\, Suite 108\, Birmingham\, AL 35242).\n\n\n\nBring plenty of cards and plan on meeting lots of new contacts at this event. The cost is $10 per person for Chamber investors and $20 for "Future" investors. Includes hot\, heavy hors d'oeuvres and two complimentary beverages of your choice.\n\n\n\nReservations are requested\, so please contact the Chamber via e-mail at info@shelbychamber.org or by phone at 663-4542 or register above online.
X-ALT-DESC;FMTTYPE=text/html:<div style="text-align: center\;"><br />\n<br />\n<strong><em>&quot\;</em><em>NETWORK</em>280&quot\; Offers Prime<br />\nOpportunity for New Business Contacts</strong><br />\n&nbsp\;</div>\n<br />\n<br />\nAre you looking to expand your contacts on the 280 corridor? <strong><em>NETWORK</em>280 </strong>can help you with that.<br />\n<br />\nThe next <strong><em>NETWORK</em>280</strong> program\, presented throughout 2016 by <a href="http://280living.com/"><strong><em>280 Living</em></strong></a>\, will be held on <em><strong>Tues<strong><em>d</em></strong>ay\, February 16 from 4:30PM-6:00PM. This NETWORK280 event is sponsored by <a href="http://tazikiscafe.com/">Taziki&#39\;s Mediterranean Cafe</a> at The Village of Lee Branch (601 Doug Baker Blvd.\, Suite 108\, Birmingham\, AL 35242).</strong></em><br />\n<br />\nBring plenty of cards and plan on meeting lots of new contacts at this event. The cost is $10 per person for Chamber investors and $20 for &quot\;Future&quot\; investors.&nbsp\;Includes hot\, heavy hors d&rsquo\;oeuvres and two complimentary beverages of your choice.<br />\n<br />\nReservations are requested\, so please contact the Chamber via e-mail at info@shelbychamber.org or by phone at 663-4542 or register above online.\n<p>&nbsp\;</p>\n
LOCATION:Taziki's Mediterranean Cafe at the Village of Lee Branch 601 Doug Baker Blvd.\, Suite 108 Birmingham\, AL 35242
UID:e.145.8248
SEQUENCE:3
DTSTAMP:20260422T093810Z
URL:https://business.shelbychamber.org/events/details/greater-shelby-chamber-network280-at-taziki-s-mediterranean-cafe-at-the-village-of-lee-branch-02-16-2016-8248
END:VEVENT

END:VCALENDAR
