BEGIN:VCALENDAR
VERSION:2.0
PRODID:-//ChamberMaster//Event Calendar 2.0//EN
METHOD:PUBLISH
X-PUBLISHED-TTL:P3D
REFRESH-INTERVAL:P3D
CALSCALE:GREGORIAN
BEGIN:VEVENT
DTSTART:20140930T160000Z
DTEND:20140930T180000Z
X-MICROSOFT-CDO-ALLDAYEVENT:FALSE
SUMMARY:Greater Shelby Chamber - Quarterly Industry Tour at American Village
DESCRIPTION:Greater Shelby Chamber Quarterly Industry Tour to be Held at American Village\n\n\n\nThe Greater Shelby Chamber's Existing Business and Industry Work Group will host its third Quarterly Industry Tour sponsored by Barge\, Waggoner\, Sumner & Cannon on Tuesday\, September 30 at American Village.\n\n\n\nParticipants will be welcomed by Tom Walker\, Village Founder & CEO. Participants will then tour the National Veterans Shrine and Register\, visit Phillis Wheatley in the Colonial Chapel\, head to learn about George Washington's Army in the Liberty Bell Garden and enjoy lunch in the Carriage House.  If there's time\, the group will also tour the Oval Office replica.\n\n\n\nThis will be a walk through tour so come prepared to walk rain or shine in comfortable shoes. A boxed lunch will be catered during this tour and RSVP is requested by Thursday\, September 25. Investment is $10 and prepayment is requested in advance. To make an online reservation click the Register Now button or call the Chamber at 663-4542.
X-ALT-DESC;FMTTYPE=text/html:<span style="font-size:12px\;"><span style="font-family: arial\;"><strong>Greater Shelby Chamber Quarterly Industry Tour to be Held at American Village</strong></span></span><br />\n<br />\nThe Greater Shelby Chamber&#39\;s Existing Business and Industry Work Group will host its third Quarterly Industry Tour sponsored by Barge\, Waggoner\, Sumner &amp\; Cannon on Tuesday\, September 30 at American Village.<br />\n<br />\nParticipants will be welcomed by Tom Walker\, Village Founder &amp\; CEO. Participants will then tour the National Veterans Shrine and Register\, visit Phillis Wheatley in the Colonial Chapel\, head to learn about George Washington&#39\;s Army in the Liberty Bell Garden and enjoy lunch in the Carriage House.&nbsp\; If there&#39\;s time\, the group will also tour the Oval Office replica.<br />\n<br />\nThis will be a walk through tour so come prepared to walk rain or shine in comfortable shoes. A boxed lunch will be catered during this tour and RSVP is requested by Thursday\, September 25. Investment is $10 and prepayment is requested in advance. To make an online reservation click the Register Now button or call the Chamber at 663-4542.
LOCATION:American Village 3727 Highway 119 South Montevallo\, AL 35115
UID:e.145.5812
SEQUENCE:3
DTSTAMP:20260423T104425Z
URL:https://business.shelbychamber.org/events/details/greater-shelby-chamber-quarterly-industry-tour-at-american-village-09-30-2014-5812
END:VEVENT

END:VCALENDAR
