BEGIN:VCALENDAR
VERSION:2.0
PRODID:-//ChamberMaster//Event Calendar 2.0//EN
METHOD:PUBLISH
X-PUBLISHED-TTL:P3D
REFRESH-INTERVAL:P3D
CALSCALE:GREGORIAN
BEGIN:VEVENT
DTSTART:20150416T140000Z
DTEND:20150416T160000Z
X-MICROSOFT-CDO-ALLDAYEVENT:FALSE
SUMMARY:Greater Shelby Chamber - Quarterly Industry Tour at Grede
DESCRIPTION:Greater Shelby Chamber Quarterly Industry Tour to be Held at Grede\n\n\n\nJoin the Chamber's Existing Industry & Business Work Group at its first Quarterly Industry Tour of 2015 on April 16. The Industry Tour -- sponsored by Barge\, Waggoner\, Sumner & Cannon -- will be held from 9:00AM until 11:00AM at Grede\, 130 Industrial Park Road\, Columbiana\, AL 35051-9359.  Participants are asked to meet on-site to tour the facility.\n\n\n\nThe iron foundry uses the Lost Foam Casting process to create parts for the automotive\, heavy truck\, agricultural and construction equipment markets.\n\n\n\nGrede is the largest manufacturing employer in Columbiana.  This specific operation dates back to the early '60's when it began as Simsco.  Today\, their customers are some of the most recognized and successful equipment manufacturers in the world.\n\n\n\nOn your visit\, there will be a short brief on the overall business followed by a walking tour of the facilities.  Reservations are requested by April 13 and the tour is limited to 20 attendees.  Reservations will be taken on a first-come\, first-served basis and can be made by contacting Brooke Story at 663-4542\, ext. 105\, email brooke@shelbychamber.org or register online above.
X-ALT-DESC;FMTTYPE=text/html:<br />\n<span style="font-size:12px\;"><span style="font-family: arial\;"><strong>Greater Shelby Chamber Quarterly Industry Tour to be Held at Grede</strong></span></span><br />\n<br />\nJoin the Chamber&#39\;s Existing Industry &amp\; Business Work Group at its first Quarterly Industry Tour of 2015 on April 16. The Industry Tour -- sponsored by Barge\, Waggoner\, Sumner &amp\; Cannon -- will be held from 9:00AM until 11:00AM at Grede\, 130 Industrial Park Road\, Columbiana\, AL 35051-9359.&nbsp\; Participants are asked to meet on-site to tour the facility.<br />\n<br />\nThe iron foundry uses the Lost Foam Casting process to create parts for the automotive\, heavy truck\, agricultural and construction equipment markets.<br />\n<br />\nGrede is the largest manufacturing employer in Columbiana.&nbsp\; This specific operation dates back to the early &lsquo\;60&rsquo\;s when it began as Simsco.&nbsp\; Today\, their customers are some of the most recognized and successful equipment manufacturers in the world.<br />\n<br />\nOn your visit\, there will be a short brief on the overall business followed by a walking tour of the facilities.&nbsp\; Reservations are requested by April 13 and the tour is limited to 20 attendees.&nbsp\; Reservations will be taken on a first-come\, first-served basis and can be made by contacting Brooke Story at 663-4542\, ext. 105\, email brooke@shelbychamber.org or register online above.
LOCATION:Grede 130 Industrial Park Road Columbiana\, AL 35051-9359 (205) 669-5700(205) 669-5700
UID:e.145.7595
SEQUENCE:3
DTSTAMP:20260423T003456Z
URL:https://business.shelbychamber.org/events/details/greater-shelby-chamber-quarterly-industry-tour-at-grede-04-16-2015-7595
END:VEVENT

END:VCALENDAR
