BEGIN:VCALENDAR
VERSION:2.0
PRODID:-//ChamberMaster//Event Calendar 2.0//EN
METHOD:PUBLISH
X-PUBLISHED-TTL:P3D
REFRESH-INTERVAL:P3D
CALSCALE:GREGORIAN
BEGIN:VEVENT
DTSTART:20150604T163000Z
DTEND:20150604T180000Z
X-MICROSOFT-CDO-ALLDAYEVENT:FALSE
SUMMARY:Greater Shelby Chamber - Quarterly Industry Tour at Hibbett Distribution Center in Alabaster
DESCRIPTION:Quarterly Industry Tour to be held at Hibbett Distribution Center in Alabaster\n\n\n\nThe Chamber's Existing Business & Industry work group is hosting its second Quarterly Industry Tour at Hibbett Distribution Center located at 201 Corporate Woods Drive in Alabaster on June 4th from 11:30AM until 1:00PM. Hibbett is a 420\,000 square foot distribution center that ships and receives to all stores including to over 700 stores with the Hibbett private fleet. Hibbett can process 20\,000 cartons in a single shift and their primary goal is to support the local store needs.  Guests of the tour will be given a tour of the facility along with given the history and understanding of what goes on at this center on a day to day basis.\n\n\n\nThe Quarterly Industry Tours are sponsored by Barge\, Waggoner\, Sumner & Cannon. There is no cost to attend the tour however reservations are requested by June 1. Contact Brooke Story at 663-4542 ext 105 or use above online registration.
X-ALT-DESC;FMTTYPE=text/html:<strong>Quarterly Industry Tour to be held at Hibbett Distribution Center in Alabaster</strong><br />\n<br />\nThe Chamber&rsquo\;s Existing Business &amp\; Industry work group is hosting its second Quarterly Industry Tour at Hibbett Distribution Center located at 201 Corporate Woods Drive in Alabaster on June 4th from 11:30AM until 1:00PM. Hibbett is a 420\,000 square foot distribution center that ships and receives to all stores including to over 700 stores with the Hibbett private fleet. Hibbett can process 20\,000 cartons in a single shift and their primary goal is to support the local store needs.&nbsp\; Guests of the tour will be given a tour of the facility along with given the history and understanding of what goes on at this center on a day to day basis.<br />\n<br />\nThe Quarterly Industry Tours are sponsored by Barge\, Waggoner\, Sumner &amp\; Cannon. There is no cost to attend the tour however reservations are requested by June 1. Contact Brooke Story at 663-4542 ext 105 or use above online registration.
LOCATION:Hibbett Distribution Center 201 Corporate Woods Drive\, Alabaster
UID:e.145.7664
SEQUENCE:3
DTSTAMP:20260422T213207Z
URL:https://business.shelbychamber.org/events/details/greater-shelby-chamber-quarterly-industry-tour-at-hibbett-distribution-center-in-alabaster-06-04-2015-7664
END:VEVENT

END:VCALENDAR
