BEGIN:VCALENDAR
VERSION:2.0
PRODID:-//ChamberMaster//Event Calendar 2.0//EN
METHOD:PUBLISH
X-PUBLISHED-TTL:P3D
REFRESH-INTERVAL:P3D
CALSCALE:GREGORIAN
BEGIN:VEVENT
DTSTART:20160223T170000Z
DTEND:20160223T190000Z
X-MICROSOFT-CDO-ALLDAYEVENT:FALSE
SUMMARY:Greater Shelby Chamber - Quarterly Industry Tour at Ovation Media\, Inc.
DESCRIPTION:Quarterly Industry Tour to be Held at Ovation Media\, Inc. in Helena\n\n\n\nThe Chamber's Existing Business & Industry Work Group is holding its first Quarterly Industry Tour\, sponsored by Barge\, Waggoner\, Sumner & Cannon\, Inc.\, from 11:00AM until 1:00PM on February 23 at Ovation Media\, Inc. (OMI)\, 2222 Highway 52\, Helena.\n\n\n\nOMI is built on years of experience in the Business Marketing\, graphic design\, digital and screen printing and web development industries. Our designers\, copywriters\, production\, marketing and web development experts come from diverse backgrounds with more than 40 years of combined experience. Together we focus all our creative energy and experiences into one driving force to give you the creative twist necessary to get results and make you stand out.\n\n\n\nAt Ovation Media you get a customized marketing solution with a partner as vested in the success of your business as you are. As a team we work together with the common goal of making "your brand\, our business".\n\n\n\nThere is no cost to attend however reservations are requested by February 22. Participants will meet on-site.\n\n\n\nReservations will be taken on a first-come\, first-served basis and can be made by contacting Payton Thomas at 663-4542\, ext. 105\, email payton@shelbychamber.org or register online.
X-ALT-DESC;FMTTYPE=text/html:<strong>Quarterly Industry Tour to be Held at Ovation Media\, Inc. in Helena</strong><br />\n<br />\nThe Chamber&#39\;s Existing Business &amp\; Industry Work Group is holding its first Quarterly Industry Tour\, sponsored by Barge\, Waggoner\, Sumner &amp\; Cannon\, Inc.\, from 11:00AM until 1:00PM on February 23 at Ovation Media\, Inc. (OMI)\, 2222 Highway 52\, Helena.<br />\n<br />\nOMI is built on years of experience in the Business Marketing\, graphic design\, digital and screen printing and web development industries. Our designers\, copywriters\, production\, marketing and web development experts come from diverse backgrounds with more than 40 years of combined experience. Together we focus all our creative energy and experiences into one driving force to give you the creative twist necessary to get results and make you stand out.<br />\n<br />\nAt Ovation Media you get a customized marketing solution with a partner as vested in the success of your business as you are. As a team we work together with the common goal of making &ldquo\;your brand\, our business&rdquo\;.<br />\n<br />\nThere is no cost to attend however reservations are requested by February 22. Participants will meet on-site.<br />\n<br />\nReservations will be taken on a first-come\, first-served basis and can be made by contacting Payton Thomas at 663-4542\, ext. 105\, email <a href="mailto:payton@shelbychamber.org?subject=Ovation%20Media%20Industry%20Tour%20Reservation%20Request">payton@shelbychamber.org</a> or register online.
LOCATION:Ovation Media\, Inc. 2222 Highway 52 Helena\, AL 35080 (205) 664-0038(205) 664-0038
UID:e.145.8339
SEQUENCE:3
DTSTAMP:20260422T093754Z
URL:https://business.shelbychamber.org/events/details/greater-shelby-chamber-quarterly-industry-tour-at-ovation-media-inc-02-23-2016-8339
END:VEVENT

END:VCALENDAR
