BEGIN:VCALENDAR
VERSION:2.0
PRODID:-//ChamberMaster//Event Calendar 2.0//EN
METHOD:PUBLISH
X-PUBLISHED-TTL:P3D
REFRESH-INTERVAL:P3D
CALSCALE:GREGORIAN
BEGIN:VEVENT
DTSTART:20141104T170000Z
DTEND:20141104T190000Z
X-MICROSOFT-CDO-ALLDAYEVENT:FALSE
SUMMARY:Greater Shelby Chamber - Quarterly Industry Tour at Stone Hollow Farmstead
DESCRIPTION:Greater Shelby Chamber Quarterly Industry Tour to be Held at Stone Hollow Farmstead\n\n\n\nThe Greater Shelby Chamber's Existing Business and Industry Work Group will host its fourth Quarterly Industry Tour sponsored by Barge\, Waggoner\, Sumner & Cannon on Tuesday\, November 4 at Stone Hollow Farmstead.\n\n\n\nThe guided tour will begin at the chicken coup where attendees will see heritage bred hens\, turkeys\, and ducks. Guests will be able to gather eggs at this point. Then the tour will lead to the milk parlor where the goats are milked daily. Lastly\, guests will visit the gardens with a cheese tasting and then enjoy lunch.\n\n\n\nLunch is $12 per person for Greater Shelby Chamber members and $20 for "Future members" and will need to be paid for in advance. Use the Register Now button above or contact Brooke Store\, Director\, Business Development and Support at 663-4542\, ext. 105 to pay with a credit card over the telephone. The Chamber accepts American Express\, Discover\, M/C and Visa.
X-ALT-DESC;FMTTYPE=text/html:<span style="font-size:12px\;"><span style="font-family: arial\;"><strong>Greater Shelby Chamber Quarterly Industry Tour to be Held at Stone Hollow Farmstead</strong></span></span><br />\n<br />\nThe Greater Shelby Chamber&#39\;s Existing Business and Industry Work Group will host its fourth Quarterly Industry Tour sponsored by Barge\, Waggoner\, Sumner &amp\; Cannon on Tuesday\, November 4 at Stone Hollow Farmstead.<br />\n<br />\nThe guided tour will begin at the chicken coup where attendees will see heritage bred hens\, turkeys\, and ducks. Guests will be able to gather eggs at this point. Then the tour will lead to the milk parlor where the goats are milked daily. Lastly\, guests will visit the gardens with a cheese tasting and then enjoy lunch.<br />\n<br />\nLunch is $12 per person for Greater Shelby Chamber members and $20 for &quot\;Future members&quot\; and will need to be paid for in advance. Use the Register Now button above or contact Brooke Store\, Director\, Business Development and Support at 663-4542\, ext. 105 to pay with a credit card over the telephone. The Chamber accepts American Express\, Discover\, M/C and Visa.
LOCATION:Stone Hollow Farmstead 2006 Dead Hollow Rd N\, Harpersville\, AL 35078 (205) 803-3585
UID:e.145.6220
SEQUENCE:3
DTSTAMP:20260423T080540Z
URL:https://business.shelbychamber.org/events/details/greater-shelby-chamber-quarterly-industry-tour-at-stone-hollow-farmstead-11-04-2014-6220
END:VEVENT

END:VCALENDAR
