BEGIN:VCALENDAR
VERSION:2.0
PRODID:-//ChamberMaster//Event Calendar 2.0//EN
METHOD:PUBLISH
X-PUBLISHED-TTL:P3D
REFRESH-INTERVAL:P3D
CALSCALE:GREGORIAN
BEGIN:VEVENT
DTSTART:20160629T160000Z
DTEND:20160629T180000Z
X-MICROSOFT-CDO-ALLDAYEVENT:FALSE
SUMMARY:Greater Shelby Chamber - Quarterly Industry Tour at The National Carbon Capture Center
DESCRIPTION:Greater Shelby Chamber's Quarterly Industry Tour\n\nto be Held at the National Carbon Capture Center\n\n\n\nThe Chamber's Existing Business & Industry Work Group is holding its third Quarterly Industry Tour\, sponsored by Barge\, Waggoner\, Sumner & Cannon\, Inc.\, from 11:00AM until 1:00PM on June 29 at the National Carbon Capture Center on Highway 25 next to the Gaston Steam Plant in Wilsonville. Click here for printable PDF flier which includes map.\n\n\n\n"The National Carbon Capture Center offers a world-class Neutral Test Facility & Highly Specialized Staff. The center accelerates the commercialization of advanced technologies to enable fossil fuel-based power plants to achieve near-zero emissions."\n\n\n\nParticipants will meet on site. There is no cost to attend. Lunch will be provided after the tour. Register by June 27 to Payton Thomas at payton@shelbychamber.org or 663-4542 ext. 105 or register online.
X-ALT-DESC;FMTTYPE=text/html:<div style="text-align: center\;"><br />\n<strong>Greater Shelby Chamber&#39\;s Quarterly Industry Tour<br />\nto be Held at the National Carbon Capture Center</strong></div>\n\n<div style="text-align: left\;"><br />\nThe Chamber&#39\;s Existing Business &amp\; Industry Work Group is holding its third Quarterly Industry Tour\, sponsored by <a href="http://www.bargewaggoner.com/">Barge\, Waggoner\, Sumner &amp\; Cannon\, Inc.</a>\, from 11:00AM until 1:00PM on June 29 at the National Carbon Capture Center on Highway 25 next to the Gaston Steam Plant in Wilsonville. <a href="https://chambermaster.blob.core.windows.net/userfiles/UserFiles/chambers/145/File/Business_Development_and_Support/GSCCNationalCarbonCaptureCenterJune2016.pdf">Click here for printable PDF flier which includes map</a>.<br />\n<br />\n&ldquo\;The National Carbon Capture Center offers a world-class Neutral Test Facility &amp\; Highly Specialized Staff. The center accelerates the commercialization of advanced technologies to enable fossil fuel-based power plants to achieve near-zero emissions.&rdquo\;<br />\n<br />\nParticipants will meet on site. There is no cost to attend. Lunch will be provided after the tour. Register by June 27 to Payton Thomas at <a href="mailto:payton@shelbychamber.org?subject=Quarterly%20Industry%20Reservation%20Request%20June%2029%20National%20Carbon%20Capture%20Center">payton@shelbychamber.org</a> or 663-4542 ext. 105 or register online.</div>\n
LOCATION:National Carbon Capture Center 31800 Highway 25 North Wilsonville\, AL 35186
UID:e.145.9459
SEQUENCE:3
DTSTAMP:20260422T030744Z
URL:https://business.shelbychamber.org/events/details/greater-shelby-chamber-quarterly-industry-tour-at-the-national-carbon-capture-center-06-29-2016-9459
END:VEVENT

END:VCALENDAR
