BEGIN:VCALENDAR
VERSION:2.0
PRODID:-//ChamberMaster//Event Calendar 2.0//EN
METHOD:PUBLISH
X-PUBLISHED-TTL:P3D
REFRESH-INTERVAL:P3D
CALSCALE:GREGORIAN
BEGIN:VEVENT
DTSTART:20140624T170000Z
DTEND:20140624T190000Z
X-MICROSOFT-CDO-ALLDAYEVENT:FALSE
SUMMARY:Greater Shelby Chamber - Quarterly Industry Tour Mspark
DESCRIPTION:Greater Shelby Chamber Quarterly Industry Tour to be Held at Mspark\n\n\n\nThe Greater Shelby Chamber's Existing Business and Industry Work Group will host its second Quarterly Industry Tour sponsored by Barge\, Waggoner\, Sumner & Cannon on Tuesday\, June 24 at Mspark.\n\n\n\nMspark is a direct marketing company with the proven ability to engage 23 million households every month. For more than 25 years\, our programs have delivered measurable results and positive return on investment for businesses by connecting them with the consumers most likely to buy their products and services.\n\n\n\nJoin us to learn more about Mspark's history and vision from COO\, Ted Walton. Then tour our state-of-the-art\, 131\,000 square foot\, Alabaster production facility to see how we assemble 120 million direct mail promotions each month for delivery to mailboxes nationwide   right here in Shelby County!\n\n\n\nThere is no cost to attend.  RSVP is required by Wednesday\, June 19. Please contact Brooke Story at 663-4542\, email brooke@shelbychamber.org or use the registration button online above. Space is limited to the first 25 guests.
X-ALT-DESC;FMTTYPE=text/html:<span style="font-size:12px\;"><span style="font-family: arial\;"><strong>Greater Shelby Chamber Quarterly Industry Tour to be Held at Mspark</strong></span></span><br />\n<br />\nThe Greater Shelby Chamber&#39\;s Existing Business and Industry Work Group will host its second Quarterly Industry Tour sponsored by Barge\, Waggoner\, Sumner &amp\; Cannon on Tuesday\, June 24 at Mspark.<br />\n<br />\nMspark is a direct marketing company with the proven ability to engage 23 million households every month. For more than 25 years\, our programs have delivered measurable results and positive return on investment for businesses by connecting them with the consumers most likely to buy their products and services.<br />\n<br />\nJoin us to learn more about Mspark&rsquo\;s history and vision from COO\, Ted Walton. Then tour our state-of-the-art\, 131\,000 square foot\, Alabaster production facility to see how we assemble 120 million direct mail promotions each month for delivery to mailboxes nationwide &ndash\; right here in Shelby County!<br />\n<br />\nThere is no cost to attend.&nbsp\; RSVP is required by Wednesday\, June 19. Please contact Brooke Story at 663-4542\, email brooke@shelbychamber.org or use the registration button online above. Space is limited to the first 25 guests.
LOCATION:Mspark Production Facility 1840 Corporate Woods Drive\, Suite 100 Alabaster\, AL 35007 Phone: (205) 419-8086
UID:e.145.5327
SEQUENCE:3
DTSTAMP:20260423T165438Z
URL:https://business.shelbychamber.org/events/details/greater-shelby-chamber-quarterly-industry-tour-mspark-06-24-2014-5327
END:VEVENT

END:VCALENDAR
