BEGIN:VCALENDAR
VERSION:2.0
PRODID:-//ChamberMaster//Event Calendar 2.0//EN
METHOD:PUBLISH
X-PUBLISHED-TTL:P3D
REFRESH-INTERVAL:P3D
CALSCALE:GREGORIAN
BEGIN:VEVENT
DTSTART:20160414T153000Z
DTEND:20160414T163000Z
X-MICROSOFT-CDO-ALLDAYEVENT:FALSE
SUMMARY:Greater Shelby Chamber - Quarterly Industry Tour to be Held at the Shelby County Regional Landfill
DESCRIPTION:Quarterly Industry Tour to be Held at Shelby County Regional Landfill\n\n\n\nThe 2nd Quarterly Industry Tour\, presented in 2016 by Barge\, Waggoner\, Sumner & Cannon\, will be held from 10:30AM until 11:30AM on April 14 at the Shelby County Regional Landfill. The Chamber's Existing Business & Industry Work Group and Shelby County invite you to tour the Shelby County Highway 70 Landfill. Participants will see firsthand where company or personal household waste is placed for disposal along with future expansion areas and upcoming projects.\n\n\n\nParticipants will meet on-site\, board a shuttle and learn how the dynamic processes of managing wastes are performed along with the engineering and science that go behind the business. Join us as we tour the State's Landfill of the Year. The Shelby County Regional Landfill was selected as the #1 landfill relative to municipal solid waste by the Alabama Department for Environmental Management in the latter part of 2015. Read more ...\n\n\n\nThere is no cost to attend the tour however reservations are requested by Wednesday\, April 12. Call Payton Thomas at 663-4542\, ext. 105\, e-mail payton@shelbychamber.org or register online.
X-ALT-DESC;FMTTYPE=text/html:<br />\n<strong>Quarterly Industry Tour to be Held at Shelby County Regional Landfill</strong><br />\n<br />\nThe 2nd Quarterly Industry Tour\, presented in 2016 by <a href="http://www.bargewaggoner.com/">Barge\, Waggoner\, Sumner &amp\; Cannon</a>\, will be held from 10:30AM until 11:30AM on April 14 at the Shelby County Regional Landfill. The Chamber&rsquo\;s Existing Business &amp\; Industry Work Group and Shelby County invite you to tour the Shelby County Highway 70 Landfill. Participants will see firsthand where company or personal household waste is placed for disposal along with future expansion areas and upcoming projects.<br />\n<br />\nParticipants will meet on-site\, board a shuttle and learn how the dynamic processes of managing wastes are performed along with the engineering and science that go behind the business. Join us as we tour the State&rsquo\;s Landfill of the Year. The Shelby County Regional Landfill was selected as the #1 landfill relative to municipal solid waste by the Alabama Department for Environmental Management in the latter part of 2015. <a href="http://280living.com/news/shelby-county-landfill-receives-adem-award119/">Read more ...</a><br />\n<br />\nThere is no cost to attend the tour however reservations are requested by Wednesday\, April 12. Call Payton Thomas at 663-4542\, ext. 105\, e-mail <a href="mailto:payton@shelbychamber.org?subject=Request%20for%20Quarterly%20Industry%20Tour%20Reservation%20April%2014">payton@shelbychamber.org</a> or register online.
LOCATION:Shelby County Regional Landfill 4154 Highway 70 Columbiana\, AL 35051
UID:e.145.9454
SEQUENCE:3
DTSTAMP:20260422T063948Z
URL:https://business.shelbychamber.org/events/details/greater-shelby-chamber-quarterly-industry-tour-to-be-held-at-the-shelby-county-regional-landfill-04-14-2016-9454
END:VEVENT

END:VCALENDAR
