BEGIN:VCALENDAR
VERSION:2.0
PRODID:-//ChamberMaster//Event Calendar 2.0//EN
METHOD:PUBLISH
X-PUBLISHED-TTL:P3D
REFRESH-INTERVAL:P3D
CALSCALE:GREGORIAN
BEGIN:VEVENT
DTSTART:20160422T150000Z
DTEND:20160422T190000Z
X-MICROSOFT-CDO-ALLDAYEVENT:FALSE
SUMMARY:Greater Shelby Chamber - "Ready to Shred" (A Recycling Day Event April 22)
DESCRIPTION:Greater Shelby Chamber "Ready to Shred"\n\n(A Recycling Day Event April 22)\n\n\n\nKeeping It Clean & Green in 2016!\n\n \n\n\nThe Greater Shelby County Chamber of Commerce's Existing Business & Industry Work Group is holding its first "Ready to Shred" Recycling Day from 10:00AM until 2:00PM on April 22. The event\, sponsored in 2016 by Gone For Good Document & E-Waste Solutions\, encourages safe and secure recycling of items. The host for our Recycling Day event is the Pelham Civic Complex & Ice Arena\, 500 Amphitheater Road\, Pelham. There will be an area in the parking lot designated for drop off of items.\n\n\n\nThe Work Group is planning to have an on-site mobile truck for document destruction* and E-Waste recycling drop off area**. Below are items that are acceptable E-Waste items:\n\n\n\n     Computers and electronics\n\n     Batteries\n\n     Cell phones\n\n     Communications equipment\n\n     Computers\n\n     DVD players\n\n     Household appliances\n\n     Laptops\n\n     Miscellaneous electronics\n\n     Miscellaneous office machines\n\n     PDAs or handheld games\n\n     Printers\n\n     Servers\, routers or hubs\n\n     Stereo and audio components\n\n     VCRs\n\n\n\n* Limit of 3-4 "Banker Boxes" of paper items\n\nLimit 3-4 lawn/leaf bags of acceptable recyclables\n\nLimit 3-4 medium plastic storage bins of acceptable recyclables\n\n\n\n**We are unable to accept:\n\nTVs\n\nComputer Monitors\n\n\n\nThere is no cost to drop off your documents or recyclable items within the above parameters.\n\n\n\nFor more information on this event\, and/ or vendor information\, contact Payton Thomas\, Manager\, Business Development & Support\, 663-4542\, ext. 105 or payton@shelbychamber.org.
X-ALT-DESC;FMTTYPE=text/html:<div style="text-align: center\;"><strong>Greater Shelby Chamber &ldquo\;Ready to Shred&rdquo\;</strong></div>\n\n<div style="text-align: center\;"><strong>(A Recycling Day Event April 22)<br />\n<br />\nKeeping It Clean &amp\; Green in 2016!</strong><br />\n&nbsp\;</div>\n<br />\nThe Greater Shelby County Chamber of Commerce&rsquo\;s Existing Business &amp\; Industry Work Group is holding its first &ldquo\;<strong>Ready to Shred</strong>&rdquo\; Recycling Day from 10:00AM until 2:00PM on April 22. The event\, sponsored in 2016 by <a href="http://ucpgoneforgood.com/">Gone For Good Document &amp\; E-Waste Solutions</a>\, encourages safe and secure recycling of items. The host for our Recycling Day event is the <a href="http://pelhamciviccomplex.com/">Pelham Civic Complex &amp\; Ice Arena</a>\, 500 Amphitheater Road\, Pelham. There will be an area in the parking lot designated for drop off of items.<br />\n<br />\nThe Work Group is planning to have an on-site mobile truck for document destruction* and E-Waste recycling drop off area**. Below are items that are acceptable E-Waste items:<br />\n<br />\n&bull\;&nbsp\;&nbsp\; &nbsp\;Computers and electronics<br />\n&bull\;&nbsp\;&nbsp\; &nbsp\;Batteries<br />\n&bull\;&nbsp\;&nbsp\; &nbsp\;Cell phones<br />\n&bull\;&nbsp\;&nbsp\; &nbsp\;Communications equipment<br />\n&bull\;&nbsp\;&nbsp\; &nbsp\;Computers<br />\n&bull\;&nbsp\;&nbsp\; &nbsp\;DVD players<br />\n&bull\;&nbsp\;&nbsp\; &nbsp\;Household appliances<br />\n&bull\;&nbsp\;&nbsp\; &nbsp\;Laptops<br />\n&bull\;&nbsp\;&nbsp\; &nbsp\;Miscellaneous electronics<br />\n&bull\;&nbsp\;&nbsp\; &nbsp\;Miscellaneous office machines<br />\n&bull\;&nbsp\;&nbsp\; &nbsp\;PDAs or handheld games<br />\n&bull\;&nbsp\;&nbsp\; &nbsp\;Printers<br />\n&bull\;&nbsp\;&nbsp\; &nbsp\;Servers\, routers or hubs<br />\n&bull\;&nbsp\;&nbsp\; &nbsp\;Stereo and audio components<br />\n&bull\;&nbsp\;&nbsp\; &nbsp\;VCRs<br />\n<br />\n* Limit of 3-4 &ldquo\;Banker Boxes&rdquo\; of paper items<br />\nLimit 3-4 lawn/leaf bags of acceptable recyclables<br />\nLimit 3-4 medium plastic storage bins of acceptable recyclables<br />\n<br />\n**We are unable to accept:<br />\nTVs<br />\nComputer Monitors<br />\n<br />\nThere is no cost to drop off your documents or recyclable items within the above parameters.<br />\n<br />\nFor more information on this event\, and/ or vendor information\, contact Payton Thomas\, Manager\, Business Development &amp\; Support\, 663-4542\, ext. 105 or payton@shelbychamber.org.<br />\n&nbsp\;
LOCATION:Pelham Civic Complex & Ice Arena 500 Amphitheater Road Pelham AL 35124
UID:e.145.9457
SEQUENCE:3
DTSTAMP:20260422T063521Z
URL:https://business.shelbychamber.org/events/details/greater-shelby-chamber-ready-to-shred-a-recycling-day-event-april-22-04-22-2016-9457
END:VEVENT

END:VCALENDAR
