BEGIN:VCALENDAR
VERSION:2.0
PRODID:-//ChamberMaster//Event Calendar 2.0//EN
METHOD:PUBLISH
X-PUBLISHED-TTL:P3D
REFRESH-INTERVAL:P3D
CALSCALE:GREGORIAN
BEGIN:VEVENT
DTSTART:20110913T160000Z
DTEND:20110913T163000Z
X-MICROSOFT-CDO-ALLDAYEVENT:FALSE
SUMMARY:Greater Shelby Chamber ~ Ribbon Cutting Alliance Protective Services\, Inc.
DESCRIPTION:Join the Greater Shelby County Chamber of Commerce for the official ribbon cutting for Alliance Protective Services.  Alliance Protective Services is celebrating its one year anniversary and is inviting everyone to join in the celebration!\n\n\n\nWhat does Alliance Protect Services offer?\n\n\n\nAlliance Protective Services of Pelham\, AL provides security guard services for residential security or business security needs\, private investigator services and security patrol personnel throughout Alabama.\n\n\n\nOur security company is licensed\, bonded and insured\, and has been providing security solutions since 1996. We offer 24 / 7 security service by well-trained\, certified armed-security and unarmed security guards\, as well as bodyguard protection for key personnel.\n\n\n\nWe also provide private investigation services for any pre-employment background check\, criminal- law or civil-lawsuit investigation\, theft investigation and Worker's Compensation fraud investigation.\n\n\n\nUnlike other security companies\, Alliance helps you develop a security plan custom-fitted to protect your business\, employees\, family and property. Call us today to discuss how we can serve your safe-protection needs.\n\n\n\nLearn More About Alliance Protective Services:\n\n\n\n    * Security Guard Service   uniformed guard service\, armed or unarmed\, for wide range of assignments\n\n    * Private Investigator Service   from a simple criminal background check to high-security screening\n\n    * Private Security Patrol   private surveillance and patrols for homes\, communities\, businesses\, etc.\n\n\n\nAlliance Protective Service security services are available around the clock for special events\, high-profile public locations\, railways and many high-crime areas.
X-ALT-DESC;FMTTYPE=text/html:<strong>Join the Greater Shelby County Chamber of Commerce for the official ribbon cutting for Alliance Protective Services.&nbsp\; Alliance Protective Services is celebrating its one year anniversary and is inviting everyone to join in the celebration!</strong><br />\n<br />\nWhat does Alliance Protect Services offer?<br />\n<br />\nAlliance Protective Services of Pelham\, AL provides security guard services for residential security or business security needs\, private investigator services and security patrol personnel throughout Alabama.<br />\n<br />\nOur security company is licensed\, bonded and insured\, and has been providing security solutions since 1996. We offer 24 / 7 security service by well-trained\, certified armed-security and unarmed security guards\, as well as bodyguard protection for key personnel.<br />\n<br />\nWe also provide private investigation services for any pre-employment background check\, criminal- law or civil-lawsuit investigation\, theft investigation and Worker&rsquo\;s Compensation fraud investigation.<br />\n<br />\nUnlike other security companies\, Alliance helps you develop a security plan custom-fitted to protect your business\, employees\, family and property. Call us today to discuss how we can serve your safe-protection needs.<br />\n<br />\nLearn More About Alliance Protective Services:<br />\n<br />\n&nbsp\;&nbsp\;&nbsp\; * Security Guard Service &ndash\; uniformed guard service\, armed or unarmed\, for wide range of assignments<br />\n&nbsp\;&nbsp\;&nbsp\; * Private Investigator Service &ndash\; from a simple criminal background check to high-security screening<br />\n&nbsp\;&nbsp\;&nbsp\; * Private Security Patrol &ndash\; private surveillance and patrols for homes\, communities\, businesses\, etc.<br />\n<br />\nAlliance Protective Service security services are available around the clock for special events\, high-profile public locations\, railways and many high-crime areas.
LOCATION:Alliance Protective Services\, Inc. 2531 Meadowview Lane\, Ste. C Pelham AL 35124 (205) 621-0933
UID:e.145.3512
SEQUENCE:3
DTSTAMP:20260425T213428Z
URL:https://business.shelbychamber.org/events/details/greater-shelby-chamber-ribbon-cutting-alliance-protective-services-inc-09-13-2011-3512
END:VEVENT

END:VCALENDAR
