BEGIN:VCALENDAR
VERSION:2.0
PRODID:-//ChamberMaster//Event Calendar 2.0//EN
METHOD:PUBLISH
X-PUBLISHED-TTL:P3D
REFRESH-INTERVAL:P3D
CALSCALE:GREGORIAN
BEGIN:VEVENT
DTSTART:20110427T160000Z
DTEND:20110427T163000Z
X-MICROSOFT-CDO-ALLDAYEVENT:FALSE
SUMMARY:Greater Shelby Chamber~Ribbon Cutting at Beauty Bar Health and Wellness Studio
DESCRIPTION:Please join owner Stephanie Donegan\n\n	as she celebrates her new business\,\n\n	The Beauty Bar Health and Wellness Studio\n\n	with a Ribbon Cutting Ceremony\n\n	Wednesday\, April 27\, 2011\n\n	11:00 am\n\n	4052 Helena Road\n\n	Helena\, AL  35080\n\n	(205) 690-0762
X-ALT-DESC;FMTTYPE=text/html:<p style="text-align: center\;">\n	<span style="font-size: 16px\;"><span style="font-family: arial\;">Please join owner Stephanie Donegan<br />\n	as she celebrates her new business\,<br />\n	The Beauty Bar Health and Wellness Studio<br />\n	with a Ribbon Cutting Ceremony<br />\n	Wednesday\, April 27\, 2011</span><br />\n	<span style="font-family: arial\;">11:00 am</span><br />\n	<span style="font-family: arial\;">4052 Helena Road</span><br />\n	<span style="font-family: arial\;">Helena\, AL&nbsp\; 35080</span><br />\n	<span style="font-family: arial\;">(205) 690-0762</span></span></p>\n
LOCATION:The Beauty Bar Health and Wellness Studio 4052 Helena Road Helena\, AL 35080 (205) 690-0762
UID:e.145.3353
SEQUENCE:3
DTSTAMP:20260426T034816Z
URL:https://business.shelbychamber.org/events/details/greater-shelby-chamber-ribbon-cutting-at-beauty-bar-health-and-wellness-studio-04-27-2011-3353
END:VEVENT

END:VCALENDAR
