BEGIN:VCALENDAR
VERSION:2.0
PRODID:-//ChamberMaster//Event Calendar 2.0//EN
METHOD:PUBLISH
X-PUBLISHED-TTL:P3D
REFRESH-INTERVAL:P3D
CALSCALE:GREGORIAN
BEGIN:VEVENT
DTSTART:20110512T143000Z
DTEND:20110512T150000Z
X-MICROSOFT-CDO-ALLDAYEVENT:FALSE
SUMMARY:Greater Shelby Chamber~Ribbon Cutting at Bedzzz Express!
DESCRIPTION:Please join Bedzzz Express\n\n	Jeff Brewer\n\n	for a Ribbon Cutting Ceremony\n\n	on\n\n	Thursday\, March 12\, 2011\n\n	at 9:30 am\n\n	100 South Colonia Drive\, Suite 1000\n\n	Alabaster\, AL  35007
X-ALT-DESC;FMTTYPE=text/html:<p style="text-align: center\;">\n	<span style="font-size: 16px\;">Please join Bedzzz Express<br />\n	Jeff Brewer<br />\n	for a Ribbon Cutting Ceremony<br />\n	on<br />\n	Thursday\, March 12\, 2011<br />\n	at 9:30 am<br />\n	100 South Colonia Drive\, Suite 1000<br />\n	Alabaster\, AL&nbsp\; 35007</span></p>\n
LOCATION:Bedzzz Express 100 South Colonial Drive\, Suite 1000 Alabaster\, AL 35007
UID:e.145.3356
SEQUENCE:3
DTSTAMP:20260426T034058Z
URL:https://business.shelbychamber.org/events/details/greater-shelby-chamber-ribbon-cutting-at-bedzzz-express-05-12-2011-3356
END:VEVENT

END:VCALENDAR
