BEGIN:VCALENDAR
VERSION:2.0
PRODID:-//ChamberMaster//Event Calendar 2.0//EN
METHOD:PUBLISH
X-PUBLISHED-TTL:P3D
REFRESH-INTERVAL:P3D
CALSCALE:GREGORIAN
BEGIN:VEVENT
DTSTART:20110819T140000Z
DTEND:20110819T143000Z
X-MICROSOFT-CDO-ALLDAYEVENT:FALSE
SUMMARY:Greater Shelby Chamber ~ Ribbon Cutting at Ekklesia Coffee House
DESCRIPTION:Join us for the official Ribbon Cutting Ekklesia Coffee House located at 109 Foothills Parkway\, Suite 110\, Chelsea.  (Next to Domino's)\n\n\n\nEkklesia Coffee House offers a full line of fresh hot gourmet coffees\, lattes\, cappuccinos\, and mochas for the cold winter mornings and delicious fruit smoothies\, iced and blended frappes for the dog days of summer. They also serve muffins\, cookies\, cinnamon rolls and other desserts that will satisfy your sweet tooth\, and they have a growing lunch menu.
X-ALT-DESC;FMTTYPE=text/html:Join us for the official Ribbon Cutting <a href="http://www.ekklesiacoffeehouse.com/index.html">Ekklesia Coffee House</a> located at 109 Foothills Parkway\, Suite 110\, Chelsea.&nbsp\; (Next to Domino&#39\;s)<br />\n<br />\n<a href="http://www.ekklesiacoffeehouse.com/index.html">Ekklesia Coffee House</a> offers a full line of fresh hot gourmet coffees\, lattes\, cappuccinos\, and mochas for the cold winter mornings and delicious fruit smoothies\, iced and blended frappes for the dog days of summer. They also serve muffins\, cookies\, cinnamon rolls and other desserts that will satisfy your sweet tooth\, and they have a growing lunch menu.
LOCATION:Ekklesia Coffee House\, 109 Foothills Parkway\, Suite 110\, Chelsea
UID:e.145.3204
SEQUENCE:3
DTSTAMP:20260425T233225Z
URL:https://business.shelbychamber.org/events/details/greater-shelby-chamber-ribbon-cutting-at-ekklesia-coffee-house-08-19-2011-3204
END:VEVENT

END:VCALENDAR
