BEGIN:VCALENDAR
VERSION:2.0
PRODID:-//ChamberMaster//Event Calendar 2.0//EN
METHOD:PUBLISH
X-PUBLISHED-TTL:P3D
REFRESH-INTERVAL:P3D
CALSCALE:GREGORIAN
BEGIN:VEVENT
DTSTART:20111007T154500Z
DTEND:20111007T160000Z
X-MICROSOFT-CDO-ALLDAYEVENT:FALSE
SUMMARY:Greater Shelby Chamber ~ Ribbon Cutting Brava Rotisserie Grill
DESCRIPTION:You are invited to join the Greater Shelby County and Hoover Chambers of Commerce for a joint ribbon cutting at Brava Rotisserie Grill!\n\n\n\nBrava Rotisserie Grill\n\n5184 Caldwell Mill Road\n\nBirmingham\, AL  35244\n\n\n\n***Barry is offering lunch specials (for purchase) after the Ribbon Cutting.
X-ALT-DESC;FMTTYPE=text/html:You are invited to join the Greater Shelby County and Hoover Chambers of Commerce for a joint ribbon cutting at Brava Rotisserie Grill!<br />\n<br />\nBrava Rotisserie Grill<br />\n5184 Caldwell Mill Road<br />\nBirmingham\, AL&nbsp\; 35244<br />\n<br />\n<font face="Arial" size="2">***Barry is offering lunch specials (for purchase) after the Ribbon Cutting.</font>
LOCATION:Brava Rotisserie Grill 5184 Caldwell Mill Road Birmingham\, AL 35244 (205) 995-0003
UID:e.145.3531
SEQUENCE:3
DTSTAMP:20260425T183849Z
URL:https://business.shelbychamber.org/events/details/greater-shelby-chamber-ribbon-cutting-brava-rotisserie-grill-10-07-2011-3531
END:VEVENT

END:VCALENDAR
