BEGIN:VCALENDAR
VERSION:2.0
PRODID:-//ChamberMaster//Event Calendar 2.0//EN
METHOD:PUBLISH
X-PUBLISHED-TTL:P3D
REFRESH-INTERVAL:P3D
CALSCALE:GREGORIAN
BEGIN:VEVENT
DTSTART:20110421T210000Z
DTEND:20110421T213000Z
X-MICROSOFT-CDO-ALLDAYEVENT:FALSE
SUMMARY:Greater Shelby Chamber Ribbon Cutting in the Lobby of Hampton Inn at Pelham!
DESCRIPTION:Join Rocky and Hina Patel as they celebrate the\n\n	newly renovated lobby of the Hampton Inn and Suites in Pelham\n\n	with a Ribbon Cutting Ceremony\n\n	on\n\n	Thursday\, April 21\n\n	4:00 pm\n\n	232 Cahaba Valley Parkway\n\n	Pelham\, AL  35124\n\n	(205) 313-9500\n\n	\n\n	Enjoy refreshements after the ribbon cutting ceremony and music provided by Keith Williams.  It's going to be a grand event.  Everyone is invited to join in the celebration!
X-ALT-DESC;FMTTYPE=text/html:<p style="text-align: center\;">\n	<span style="font-size: 16px\;"><span style="font-family: arial\;">Join Rocky and Hina Patel as they celebrate the<br />\n	newly renovated lobby of the Hampton Inn and Suites in Pelham<br />\n	with a Ribbon Cutting Ceremony<br />\n	on<br />\n	Thursday\, April 21</span><br />\n	<span style="font-family: arial\;">4:00 pm</span><br />\n	<span style="font-family: arial\;">232 Cahaba Valley Parkway<br />\n	Pelham\, AL&nbsp\; 35124</span><br />\n	<span style="font-family: arial\;">(205) 313-9500</span></span><br />\n	<br />\n	<span style="font-size: 16px\;">Enjoy refreshements after the ribbon cutting ceremony and music provided by Keith Williams.&nbsp\; It&#39\;s going to be a grand event.&nbsp\; Everyone is invited to join in the celebration!</span></p>\n
LOCATION:Hampton Inn and Suites in Pelham 232 Cahaba Valley Parkway Pelham\, AL 35124
UID:e.145.3352
SEQUENCE:3
DTSTAMP:20260426T034816Z
URL:https://business.shelbychamber.org/events/details/greater-shelby-chamber-ribbon-cutting-in-the-lobby-of-hampton-inn-at-pelham-04-21-2011-3352
END:VEVENT

END:VCALENDAR
