BEGIN:VCALENDAR
VERSION:2.0
PRODID:-//ChamberMaster//Event Calendar 2.0//EN
METHOD:PUBLISH
X-PUBLISHED-TTL:P3D
REFRESH-INTERVAL:P3D
CALSCALE:GREGORIAN
BEGIN:VEVENT
DTSTART:20110803T190000Z
DTEND:20110803T191500Z
X-MICROSOFT-CDO-ALLDAYEVENT:FALSE
SUMMARY:Greater Shelby Chamber~Ribbon Cutting The Cat's Meow Family Consignment Boutique
DESCRIPTION:Join the Greater Shelby County Chamber of Commerce for the official ribbon cutting for Cat's Meow Family Consignment Boutique.\n\n\n\nMeet your fellow Chamber member:\n\n\n\nThe Cat's Meow Family Consignment Boutique\, a Chelsea Alabama establishment\, is locally owned and operated by Brian and Kimberly Pierrotti.  When we opened our doors in May of 2011 we instantly felt at home.  Our goal was to create a welcoming atmosphere for anyone who walked in the store.  We want you to have a great shopping experience and leave happy and satisfied.  Having 2 teenage children of our own we know the value of a dollar in today's economy.  We want to help the community both save and make money through consignment.  The Cat's Meow Family Consignment Boutique is founded on the belief that our customers' needs as well as their shopping experience are of the utmost importance.
X-ALT-DESC;FMTTYPE=text/html:<strong>Join the Greater Shelby County Chamber of Commerce for the official ribbon cutting for Cat&#39\;s Meow Family Consignment Boutique.</strong><br />\n<br />\nMeet your fellow Chamber member:<br />\n<br />\nThe Cat&#39\;s Meow Family Consignment Boutique\, a Chelsea Alabama establishment\, is locally owned and operated by Brian and Kimberly Pierrotti.&nbsp\; When we opened our doors in May of 2011 we instantly felt at home.&nbsp\; Our goal was to create a welcoming atmosphere for anyone who walked in the store.&nbsp\; We want you to have a great shopping experience and leave happy and satisfied.&nbsp\; Having 2 teenage children of our own we know the value of a dollar in today&#39\;s economy.&nbsp\; We want to help the community both save and make money through consignment.&nbsp\; The Cat&#39\;s Meow Family Consignment Boutique is founded on the belief that our customers&#39\; needs as well as their shopping experience are of the utmost importance.
LOCATION:The Cat's Meow Family Consignment Boutique 10699 Old Highway 280\, Bldg. 5\, Ste 8 Chelsea AL 35043 (205) 903-9805
UID:e.145.3482
SEQUENCE:3
DTSTAMP:20260425T215659Z
URL:https://business.shelbychamber.org/events/details/greater-shelby-chamber-ribbon-cutting-the-cat-s-meow-family-consignment-boutique-08-03-2011-3482
END:VEVENT

END:VCALENDAR
