BEGIN:VCALENDAR
VERSION:2.0
PRODID:-//ChamberMaster//Event Calendar 2.0//EN
METHOD:PUBLISH
X-PUBLISHED-TTL:P3D
REFRESH-INTERVAL:P3D
CALSCALE:GREGORIAN
BEGIN:VEVENT
DTSTART:20141209T140000Z
DTEND:20141209T170000Z
X-MICROSOFT-CDO-ALLDAYEVENT:FALSE
SUMMARY:Greater Shelby Chamber's Entrepreneur Mentorship Program
DESCRIPTION:Greater Shelby Chamber's Entrepreneur Mentorship Program Can Help!\n\n\n\nIf you're a small business owner wanting to discuss opportunities\, challenges or any other issue you might be facing\, the Chamber's Entrepreneur & Small Business Mentorship Program\, sponsored by Charter Business\, is here to help.\n\n\n\nEach month on the 2nd Tuesday from 8:00AM-11:00AM\, Michael Smith with the The Great\, The Good and The Gone will be available for a one-on-one confidential meeting with any small business owner or entrepreneur to discuss any topic.  Appointments are required so please call Brooke Story\, the Chamber's Director of Business Development & Support\, at 663-4542 ext. 105 or via e-mail at brooke@shelbychamber.org for availability.
X-ALT-DESC;FMTTYPE=text/html:Greater Shelby Chamber&rsquo\;s Entrepreneur Mentorship Program Can Help!<br />\n<br />\nIf you&rsquo\;re a small business owner wanting to discuss opportunities\, challenges or any other issue you might be facing\, the Chamber&rsquo\;s Entrepreneur &amp\; Small Business Mentorship Program\, sponsored by Charter Business\, is here to help.<br />\n<br />\nEach month on the 2nd Tuesday from 8:00AM-11:00AM\, Michael Smith with the The Great\, The Good and The Gone will be available for a one-on-one confidential meeting with any small business owner or entrepreneur to discuss any topic.&nbsp\; Appointments are required so please call Brooke Story\, the Chamber&rsquo\;s Director of Business Development &amp\; Support\, at 663-4542 ext. 105 or via e-mail at <a href="mailto:brooke@shelbychamber.org?subject=Request%20for%20Entrepreneur%20Mentorship%20Appointment">brooke@shelbychamber.org</a> for availability.
LOCATION:Greater Shelby County Chamber of Commerce 1301 County Services Drive Pelham\, AL 35124
UID:e.145.5537
SEQUENCE:3
DTSTAMP:20260423T063126Z
URL:https://business.shelbychamber.org/events/details/greater-shelby-chamber-s-entrepreneur-mentorship-program-12-09-2014-5537
END:VEVENT

END:VCALENDAR
