BEGIN:VCALENDAR
VERSION:2.0
PRODID:-//ChamberMaster//Event Calendar 2.0//EN
METHOD:PUBLISH
X-PUBLISHED-TTL:P3D
REFRESH-INTERVAL:P3D
CALSCALE:GREGORIAN
BEGIN:VEVENT
DTSTART:20130521T124500Z
DTEND:20130521T183000Z
X-MICROSOFT-CDO-ALLDAYEVENT:FALSE
SUMMARY:Greater Shelby Chamber ~ "Sell Yourself\, Your Ideas\, Your Agenda" Workshop
DESCRIPTION:Don't miss the opportunity to attend "Sell Yourself\, Your Ideas\, Your Agenda" workshop being held at the Greater Shelby County Chamber office from 7:45AM until 1:30PM on May 21.  This is a hands-on\, interactive workshop that will allow you to implement tried and true management techniques learned by the conclusion of the workshop!\n\n\n\nSell Yourself\, Your Ideas\, Your Agenda\n\n\n\nThe workshop\, facilitated by Michael Smith\, TheGREATtheGOODandtheGONE\, will cover key topic points such as:\n\n\n	\n		How to build lasting relationship from your first contact\n	\n		How to gain and retain people's attention\n	\n		Getting other people to take action\n	\n		Getting rid of the elevator speech\n\nCall the Chamber office at 663-4542 or click the Register Online button above.  The Chamber accepts American Express\, Discover\, M/C\, Visa\, check\, and cash.  Future members must register and prepay for workshops.
X-ALT-DESC;FMTTYPE=text/html:<span style="font-size:12px\;"><span style="font-family: arial\;">Don&#39\;t miss the opportunity to attend &quot\;<strong>Sell Yourself\, Your Ideas\, Your Agenda</strong>&quot\; workshop being held at the Greater Shelby County Chamber office from 7:45AM until 1:30PM on May 21.&nbsp\; This is a hands-on\, interactive workshop that will allow you to implement tried and true management techniques learned by the conclusion of the workshop!<br />\n<br />\n<strong>Sell Yourself\, Your Ideas\, Your Agenda</strong><br />\n<br />\nThe workshop\, facilitated by Michael Smith\, TheGREATtheGOODandtheGONE\, will cover key topic points such as:</span></span><br />\n<ul>\n	<li>\n		<span style="font-size:12px\;"><span style="font-family: arial\;">How to build lasting relationship from your first contact</span></span></li>\n	<li>\n		<span style="font-size:12px\;"><span style="font-family: arial\;">How to gain and retain people&rsquo\;s attention</span></span></li>\n	<li>\n		<span style="font-size:12px\;"><span style="font-family: arial\;">Getting other people to take action</span></span></li>\n	<li>\n		<span style="font-size:12px\;"><span style="font-family: arial\;">Getting rid of the elevator speech</span></span></li>\n</ul>\n<span style="font-size:12px\;"><span style="font-family: arial\;">Call the Chamber office at 663-4542 or click the Register Online button above.&nbsp\; The Chamber accepts American Express\, Discover\, M/C\, Visa\, check\, and cash.&nbsp\; Future members must register and prepay for workshops.</span></span><br />\n
LOCATION:Greater Shelby Chamber 1301 County Services Drive\, Pelham (205) 663-4542
UID:e.145.4591
SEQUENCE:3
DTSTAMP:20260424T135007Z
URL:https://business.shelbychamber.org/events/details/greater-shelby-chamber-sell-yourself-your-ideas-your-agenda-workshop-05-21-2013-4591
END:VEVENT

END:VCALENDAR
