BEGIN:VCALENDAR
VERSION:2.0
PRODID:-//ChamberMaster//Event Calendar 2.0//EN
METHOD:PUBLISH
X-PUBLISHED-TTL:P3D
REFRESH-INTERVAL:P3D
CALSCALE:GREGORIAN
BEGIN:VEVENT
DTSTART:20150910T163000Z
DTEND:20150910T180000Z
X-MICROSOFT-CDO-ALLDAYEVENT:FALSE
SUMMARY:Greater Shelby Chamber Seminar - PCI Compliance Seminar "Changes You Need to Know"
DESCRIPTION:Greater Shelby Chamber - PCI Compliance Seminar "Changes You Need to Know"\n\n\n\nIn October of this year\, EMV (Europay\, MasterCard\, and Visa) will become the new standard for credit/ debit card transactions. This will require specialized terminals and education for businesses. Learn from professionals\; Patrick Robinson with Renasant Bank and Benji Sawyer of Sawyer Solutions as they guide businesses to understanding the basics of PCI (Payment Card Industry) compliance and how the October 2015 changes will affect your business procedures and how these procedures fit in the framework of fundamental data protection for your businesses.\n\n\n\nThe seminar will be held from 11:30AM until 1:00PM on September 10 at the Chamber office\, 1301 County Services Drive\, Pelham. Reservations are requested by Tuesday\, September 8. There is no cost to attend however lunch is available for $10 for Chamber members\, $20 for "Future" members. To ensure we have a proper headcount\, please make reservations for this workshop Monday\, September 8 by contacting Brooke White\, the Chamber's Director of Business Development & Support via e-mail at brooke@shelbychamber.org or by calling 663-4542\, ext. 105 or register online.
X-ALT-DESC;FMTTYPE=text/html:<br />\n<strong>Greater Shelby Chamber - PCI Compliance Seminar &quot\;Changes You Need to Know&quot\;</strong><br />\n<br />\nIn October of this year\, EMV (Europay\, MasterCard\, and Visa) will become the new standard for credit/ debit card transactions. This will require specialized terminals and education for businesses. Learn from professionals\; Patrick Robinson with Renasant Bank and Benji Sawyer of Sawyer Solutions as they guide businesses to understanding the basics of PCI (Payment Card Industry) compliance and how the October 2015 changes will affect your business procedures and how these procedures fit in the framework of fundamental data protection for your businesses.<br />\n<br />\nThe seminar will be held from 11:30AM until 1:00PM on September 10 at the Chamber office\, 1301 County Services Drive\, Pelham. Reservations are requested by Tuesday\, September 8. There is no cost to attend however lunch is available for $10 for Chamber members\, $20 for &quot\;Future&quot\; members. To ensure we have a proper headcount\, please make reservations for this workshop Monday\, September 8 by contacting Brooke White\, the Chamber&rsquo\;s Director of Business Development &amp\; Support via e-mail at brooke@shelbychamber.org or by calling 663-4542\, ext. 105 or register online.<br />\n&nbsp\;
LOCATION:Greater Shelby Shelby Office 1301 County Services Dr. Pelham\, AL 35124 663-4542
UID:e.145.7785
SEQUENCE:3
DTSTAMP:20260422T171913Z
URL:https://business.shelbychamber.org/events/details/greater-shelby-chamber-seminar-pci-compliance-seminar-changes-you-need-to-know-09-10-2015-7785
END:VEVENT

END:VCALENDAR
