BEGIN:VCALENDAR
VERSION:2.0
PRODID:-//ChamberMaster//Event Calendar 2.0//EN
METHOD:PUBLISH
X-PUBLISHED-TTL:P3D
REFRESH-INTERVAL:P3D
CALSCALE:GREGORIAN
BEGIN:VEVENT
DTSTART:20150423T130000Z
DTEND:20150424T200000Z
X-MICROSOFT-CDO-ALLDAYEVENT:FALSE
SUMMARY:Greater Shelby Chamber - Shelby County Student Career Awareness Fair
DESCRIPTION:Seeking Volunteers to Share Expertise at Greater Shelby Chamber's Career Awareness Fair\n\n\n\nThe Greater Shelby County Chamber of Commerce will be hosting a Career Awareness Fair Shelby County 10th grade students during 8:00AM until 3:00PM on April 23-24 at the Shelby County Exhibition Center.\n\n\n\nThe program\, sponsored by Legacy Community Federal Credit Union\, is an opportunity for business professionals to share 1/2 - 1 day with students the education and/ or training requirements\, salary range\, workplace expectations and more in needed to be employed in your respective field.\n\n\n\nWe are seeking volunteers in the professions listed below to address students in the real world of work. If you or someone in your organization is interested in sharing your expertise\, please contact Keyla Handley at 663-4542 ext. 106 or E-mail keyla@shelbychamber.org for more information.\n\n\n\nAgriculture\, Food\, and Natural Resources\n\nArchitecture & Construction\n\nArts\, AV Technology & Communication\n\nBusiness Management & Administration\n\nEducation & Training\n\nFinance\n\nGovernment & Public Administration\n\nHealth Science\n\nHospitality & Tourism\n\nHuman Services\n\nInformation Technology\n\nLaw\, Public Safety\, Corrections\, Security\n\nManufacturing\n\nMarketing\n\nScience\, Technology\, Engineering\, Math\n\nTransportation\, Distribution\, Logistics
X-ALT-DESC;FMTTYPE=text/html:<br />\n<strong>Seeking Volunteers to Share Expertise at Greater Shelby Chamber&rsquo\;s Career Awareness Fair</strong><br />\n<br />\nThe Greater Shelby County Chamber of Commerce will be hosting a Career Awareness Fair Shelby County 10th grade students during 8:00AM until 3:00PM on April 23-24 at the Shelby County Exhibition Center.<br />\n<br />\nThe program\, sponsored by Legacy Community Federal Credit Union\, is an opportunity for business professionals to share 1/2 - 1 day with students the education and/ or training requirements\, salary range\, workplace expectations and more in needed to be employed in your respective field.<br />\n<br />\nWe are seeking volunteers in the professions listed below to address students in the real world of work. If you or someone in your organization is interested in sharing your expertise\, please contact Keyla Handley at 663-4542 ext. 106 or E-mail keyla@shelbychamber.org for more information.<br />\n<br />\nAgriculture\, Food\, and Natural Resources<br />\nArchitecture &amp\; Construction<br />\nArts\, AV Technology &amp\; Communication<br />\nBusiness Management &amp\; Administration<br />\nEducation &amp\; Training<br />\nFinance<br />\nGovernment &amp\; Public Administration<br />\nHealth Science<br />\nHospitality &amp\; Tourism<br />\nHuman Services<br />\nInformation Technology<br />\nLaw\, Public Safety\, Corrections\, Security<br />\nManufacturing<br />\nMarketing<br />\nScience\, Technology\, Engineering\, Math<br />\nTransportation\, Distribution\, Logistics
LOCATION:Shelby County Exhibition Center 86 Argo Road Columbiana
UID:e.145.7596
SEQUENCE:3
DTSTAMP:20260423T021551Z
URL:https://business.shelbychamber.org/events/details/greater-shelby-chamber-shelby-county-student-career-awareness-fair-04-23-2015-7596
END:VEVENT

END:VCALENDAR
