BEGIN:VCALENDAR
VERSION:2.0
PRODID:-//ChamberMaster//Event Calendar 2.0//EN
METHOD:PUBLISH
X-PUBLISHED-TTL:P3D
REFRESH-INTERVAL:P3D
CALSCALE:GREGORIAN
BEGIN:VEVENT
DTSTART:20150603T210000Z
DTEND:20150603T220000Z
X-MICROSOFT-CDO-ALLDAYEVENT:FALSE
SUMMARY:Greater Shelby Chamber - Small Business Work Group
DESCRIPTION:Greater Shelby Chamber Small Business Work Group\n\n\n\nPromote the economic success of small businesses through a variety of events\, seminars and workshops.  Organize annual "Small Business Celebration" activities.  If you are interested in serving on the Small Business Work Group contact Brooke Story\, Director\, Business Development & Support at 663-4542\, ext. 105.
X-ALT-DESC;FMTTYPE=text/html:<strong>Greater Shelby Chamber Small Business Work Group</strong><br />\n<br />\nPromote the economic success of small businesses through a variety of events\, seminars and workshops.&nbsp\; Organize annual &ldquo\;Small Business Celebration&rdquo\; activities.&nbsp\; If you are interested in serving on the Small Business Work Group contact <a href="mailto:brooke@shelbychamber.org?subject=Interested%20in%20Serving%20on%20Small%20Business%20Chamber%20Work%20Group">Brooke Story</a>\, Director\, Business Development &amp\; Support at 663-4542\, ext. 105.
LOCATION:Greater Shelby Shelby Office 1301 County Services Dr. Pelham\, AL 35124 663-4542
UID:e.145.6594
SEQUENCE:3
DTSTAMP:20260422T225615Z
URL:https://business.shelbychamber.org/events/details/greater-shelby-chamber-small-business-work-group-06-03-2015-6594
END:VEVENT

END:VCALENDAR
