BEGIN:VCALENDAR
VERSION:2.0
PRODID:-//ChamberMaster//Event Calendar 2.0//EN
METHOD:PUBLISH
X-PUBLISHED-TTL:P3D
REFRESH-INTERVAL:P3D
CALSCALE:GREGORIAN
BEGIN:VEVENT
DTSTART:20110419T210000Z
DTEND:20110419T230000Z
X-MICROSOFT-CDO-ALLDAYEVENT:FALSE
SUMMARY:Greater Shelby Chamber ~ Social 280 at City Vineyard
DESCRIPTION:Join us for our next Social 280 at City Vineyard.  City Vineyard is a casually sophisticated wine shop run by a few hardworking folks who have a real passion for fine wine and beer. We've learned the ins and outs of the wine business and are simply here to help you find the perfect bottle for any occasion. We promise you a fun\, non-intimidating shopping experience in an inviting atmosphere. Whether you are searching for a special gift\, pairing for a specific food or just browsing around  for something new to catch your eye (or palette!)\, we are the premier Birmingham wine shop for all your needs.\n\n	\n\n	The Greater Shelby County Chamber offers a variety of no cost events throughout the county\, including Social 280\, a new event for 2011. Social 280 is a late afternoon event and offers opportunities to network and get to know area business leaders.
X-ALT-DESC;FMTTYPE=text/html:<p>\n	<span style="font-size: 11px\;"><span style="font-family: arial\;">Join us for our next <a href="http://www.shelbychamber.org/default.asp?ID=120">Social 280</a> at <a href="http://www.cityvineyard.net/">City Vineyard</a>. &nbsp\;<a href="http://www.cityvineyard.net/">City Vineyard</a> is a casually sophisticated wine shop run by a few hardworking folks who have a real passion for fine wine and beer. We&rsquo\;ve learned the ins and outs of the wine business and are simply here to help you find the perfect bottle for any occasion. We promise you a fun\, non-intimidating shopping experience in an inviting atmosphere. Whether you are searching for a special gift\, pairing for a specific food or just browsing around&nbsp\; for something new to catch your eye (or palette!)\, we are the premier Birmingham wine shop for all your needs.<br />\n	<br />\n	<span style="font-size: 11px\;"><span style="font-family: arial\;">The Greater Shelby County Chamber offers a variety of no cost events throughout the county\, including <a href="http://www.shelbychamber.org/default.asp?ID=120">Social 280</a>\, a new event for 2011. <a href="http://www.shelbychamber.org/default.asp?ID=120">Social 280</a> is a late afternoon event and offers opportunities to network and get to know area business leaders.</span></span></span></span></p>\n
LOCATION:City Vineyard\, LLC 5479 Highway 280\, Ste 102 Birmingham AL 35242 (205) 437-3360
UID:e.145.3258
SEQUENCE:3
DTSTAMP:20260426T034644Z
URL:https://business.shelbychamber.org/events/details/greater-shelby-chamber-social-280-at-city-vineyard-04-19-2011-3258
END:VEVENT

END:VCALENDAR
