BEGIN:VCALENDAR
VERSION:2.0
PRODID:-//ChamberMaster//Event Calendar 2.0//EN
METHOD:PUBLISH
X-PUBLISHED-TTL:P3D
REFRESH-INTERVAL:P3D
CALSCALE:GREGORIAN
BEGIN:VEVENT
DTSTART:20110825T220000Z
DTEND:20110826T000000Z
X-MICROSOFT-CDO-ALLDAYEVENT:FALSE
SUMMARY:Greater Shelby Chamber ~ Social 280 at Greystone Smile Design
DESCRIPTION:Join us for our next Social 280 at Greystone Smile Design.\n\n\n\nMeet our host:  Greystone Smile Design -- Cosmetic\, Family & Pediatric Dentists\n\n\n\nA dazzling\, healthy smile can brighten your life and give you a big boost in self-confidence. With these thoughts in mind\, premier Alabama dentists Dr. Trent Buchanan and Dr. Thomas Dudney are ready to provide you and your family with the unmatched care you deserve. The dentists and caring dental staff of Greystone Smile Design offer comprehensive care in all aspects of dentistry and believe that having a beautiful smile depends on a healthy foundation of strong teeth and gums.\n\n\n\nThe Greater Shelby County Chamber offers a variety of no cost events throughout the county\, including Social 280. Social 280 is a late afternoon event and offers opportunities to network and get to know area business leaders.
X-ALT-DESC;FMTTYPE=text/html:Join us for our next <a href="http://www.shelbychamber.org/default.asp?ID=120">Social 280</a> at <a href="http://www.greystonesmiledesign.com/">Greystone Smile Design</a>.<br />\n<br />\nMeet our host:&nbsp\; <a href="http://www.greystonesmiledesign.com/">Greystone Smile Design</a> -- Cosmetic\, Family &amp\; Pediatric Dentists<br />\n<br />\nA dazzling\, healthy smile can brighten your life and give you a big boost in self-confidence. With these thoughts in mind\, premier Alabama dentists Dr. Trent Buchanan and Dr. Thomas Dudney are ready to provide you and your family with the unmatched care you deserve. The dentists and caring dental staff of Greystone Smile Design offer comprehensive care in all aspects of dentistry and believe that having a beautiful smile depends on a healthy foundation of strong teeth and gums.<br />\n<br />\nThe Greater Shelby County Chamber offers a variety of no cost events throughout the county\, including <a href="http://www.shelbychamber.org/default.asp?ID=120">Social 280</a>. <a href="http://www.shelbychamber.org/default.asp?ID=120">Social 280</a> is a late afternoon event and offers opportunities to network and get to know area business leaders. 
LOCATION:Greystone Smile Design 140 Village Street\, Ste 203 Birmingham AL 35242 (205) 981-7775
UID:e.145.3401
SEQUENCE:3
DTSTAMP:20260425T232401Z
URL:https://business.shelbychamber.org/events/details/greater-shelby-chamber-social-280-at-greystone-smile-design-08-25-2011-3401
END:VEVENT

END:VCALENDAR
