BEGIN:VCALENDAR
VERSION:2.0
PRODID:-//ChamberMaster//Event Calendar 2.0//EN
METHOD:PUBLISH
X-PUBLISHED-TTL:P3D
REFRESH-INTERVAL:P3D
CALSCALE:GREGORIAN
BEGIN:VEVENT
DTSTART:20111215T220000Z
DTEND:20111216T000000Z
X-MICROSOFT-CDO-ALLDAYEVENT:FALSE
SUMMARY:Greater Shelby Chamber ~ Social 280 at Hampton Inn & Suites Eagle Point
DESCRIPTION:Join us for our next Social 280 at Hampton Inn & Suites Eagle Point.\n\n\n\nMeet our host:  Hampton Inn & Suites Eagle Point\n\n\n\nThe Hampton Inn & Suites  Birmingham/280 East-Eagle Point hotel puts you near the best of the South. Nestled in the rolling foothills of the Appalachians\, this vibrant\, scenic city offers world-class golf and exciting attractions. Minutes away are some of the best golf courses in Alabama\, including Eagle Point\, within a few hundred yards of our front door and Shoal Creek\, a public golf course designed by Jack Nicklaus.\n\n\n\nRight next door is The Village at Lee Branch\, an outdoor promenade that also boasts a delicious variety of eateries. And only minutes away\, the Treetop Family Adventure features a go-kart track\, a whimsical miniature golf course\, laser tag and a huge arcade!\n\n\n\nThe Greater Shelby County Chamber offers a variety of no cost events throughout the county\, including Social 280. Social 280 is a late afternoon event and offers opportunities to network and get to know area business leaders.
X-ALT-DESC;FMTTYPE=text/html:Join us for our next <a href="http://www.shelbychamber.org/default.asp?ID=120">Social 280</a> at <a href="http://hamptoninn.hilton.com/en/hp/hotels/index.jhtml\;jsessionid=E40SMXCI1BGICCSGBJT3MQQ?moreDesc=true&amp\;ctyhocn=BHMLBHX">Hampton Inn &amp\; Suites Eagle Point</a>.<br />\n<br />\nMeet our host:&nbsp\; <a href="http://hamptoninn.hilton.com/en/hp/hotels/index.jhtml\;jsessionid=E40SMXCI1BGICCSGBJT3MQQ?moreDesc=true&amp\;ctyhocn=BHMLBHX">Hampton Inn &amp\; Suites Eagle Point</a><br />\n<br />\nThe Hampton Inn &amp\; Suites&reg\; Birmingham/280 East-Eagle Point hotel puts you near the best of the South. Nestled in the rolling foothills of the Appalachians\, this vibrant\, scenic city offers world-class golf and exciting attractions. Minutes away are some of the best golf courses in Alabama\, including Eagle Point\, within a few hundred yards of our front door and Shoal Creek\, a public golf course designed by Jack Nicklaus.<br />\n<br />\nRight next door is The Village at Lee Branch\, an outdoor promenade that also boasts a delicious variety of eateries. And only minutes away\, the Treetop Family Adventure features a go-kart track\, a whimsical miniature golf course\, laser tag and a huge arcade!<br />\n<br />\nThe Greater Shelby County Chamber offers a variety of no cost events throughout the county\, including <a href="http://www.shelbychamber.org/default.asp?ID=120">Social 280</a>. <a href="http://www.shelbychamber.org/default.asp?ID=120">Social 280</a> is a late afternoon event and offers opportunities to network and get to know area business leaders. 
LOCATION:Hampton Inn & Suites 280 at Eagle Point 6220 Farley Ct Birmingham AL 35242 (205) 981-0024
UID:e.145.3615
SEQUENCE:3
DTSTAMP:20260425T153425Z
URL:https://business.shelbychamber.org/events/details/greater-shelby-chamber-social-280-at-hampton-inn-suites-eagle-point-12-15-2011-3615
END:VEVENT

END:VCALENDAR
