BEGIN:VCALENDAR
VERSION:2.0
PRODID:-//ChamberMaster//Event Calendar 2.0//EN
METHOD:PUBLISH
X-PUBLISHED-TTL:P3D
REFRESH-INTERVAL:P3D
CALSCALE:GREGORIAN
BEGIN:VEVENT
DTSTART:20120426T133000Z
DTEND:20120426T133000Z
X-MICROSOFT-CDO-ALLDAYEVENT:FALSE
SUMMARY:Greater Shelby Chamber ~ SpeedNetworking for Professionals
DESCRIPTION:This fast and furious event is fun for everyone who participates! Each attendee must bring at least 50-75 business cards and be prepared to share the following information within 60 seconds: * Who you are* The company you own or are employed by* Who would be your ideal customer or client* Something personal (hobbies\, interests\, family...EMBELLISH!) Everyone gets a chance to share and learn about each other in a way that's non-threatening and fun.  Get in on the fun and have a blast networking! Click here to read more about SpeedNetworking for Professionals on the Chamber's website.
X-ALT-DESC;FMTTYPE=text/html:<div>This fast and furious event is fun for everyone who participates! Each attendee must bring at least 50-75 business cards and be prepared to share the following information within 60 seconds:</div><div>&nbsp\;</div><div>* Who you are</div><div>* The company you own or are employed by</div><div>* Who would be your ideal customer or client</div><div>* Something personal (hobbies\, interests\, family...EMBELLISH!)</div><div>&nbsp\;</div><div>Everyone gets a chance to share and learn about each other in a way that&rsquo\;s non-threatening and fun.&nbsp\; Get in on the fun and have a blast networking!</div><div>&nbsp\;</div><div><a href="http://www.shelbychamber.org/default.asp?ID=100">Click here to read more about SpeedNetworking for Professionals on the Chamber's website.</a></div>
LOCATION:Hampton Inn & Suites 280 at Eagle Point 6220 Farley Ct Birmingham AL 35242 (205) 981-0024
UID:e.145.3980
SEQUENCE:3
DTSTAMP:20260425T101820Z
URL:https://business.shelbychamber.org/events/details/greater-shelby-chamber-speednetworking-for-professionals-04-26-2012-3980
END:VEVENT

END:VCALENDAR
