BEGIN:VCALENDAR
VERSION:2.0
PRODID:-//ChamberMaster//Event Calendar 2.0//EN
METHOD:PUBLISH
X-PUBLISHED-TTL:P3D
REFRESH-INTERVAL:P3D
CALSCALE:GREGORIAN
BEGIN:VEVENT
DTSTART:20120816T133000Z
DTEND:20120816T150000Z
X-MICROSOFT-CDO-ALLDAYEVENT:FALSE
SUMMARY:Greater Shelby Chamber ~ SpeedNetworking for Professionals
DESCRIPTION:It's time again for SpeedNetworking for Professionals!  This fast-paced networking event is fun for everyone that participates! Each attendee must bring at least 50-75 business cards and be prepared to share the following information within 60 seconds:\n\n	 \n\n	* Who you are\n\n	* The company you own or are employed by\n\n	* Who would be your ideal customer or client\n\n	* Something personal (hobbies\, interests\, family...EMBELLISH!)\n\n	 \n\n	Everyone gets a chance to share and learn about each other in a way that's non-threatening and fun.  Get in on the fun and have a blast networking!\n\n	 \n\n	Click here to read more about SpeedNetworking for Professionals on the Chamber's website.
X-ALT-DESC;FMTTYPE=text/html:<div>\n	It&#39\;s time again for SpeedNetworking for Professionals!&nbsp\; This fast-paced networking event is fun for everyone that participates! Each attendee must bring at least 50-75 business cards and be prepared to share the following information within 60 seconds:</div>\n<div>\n	&nbsp\;</div>\n<div>\n	* Who you are</div>\n<div>\n	* The company you own or are employed by</div>\n<div>\n	* Who would be your ideal customer or client</div>\n<div>\n	* Something personal (hobbies\, interests\, family...EMBELLISH!)</div>\n<div>\n	&nbsp\;</div>\n<div>\n	Everyone gets a chance to share and learn about each other in a way that&rsquo\;s non-threatening and fun.&nbsp\; Get in on the fun and have a blast networking!</div>\n<div>\n	&nbsp\;</div>\n<div>\n	<a href="http://www.shelbychamber.org/default.asp?ID=100">Click here to read more about SpeedNetworking for Professionals on the Chamber&#39\;s website.</a></div>\n
LOCATION:Hampton Inn & Suites 232 Cahaba Valley Rd.\, Pelham (205) 313-9500
UID:e.145.4277
SEQUENCE:3
DTSTAMP:20260425T024525Z
URL:https://business.shelbychamber.org/events/details/greater-shelby-chamber-speednetworking-for-professionals-08-16-2012-4277
END:VEVENT

END:VCALENDAR
