BEGIN:VCALENDAR
VERSION:2.0
PRODID:-//ChamberMaster//Event Calendar 2.0//EN
METHOD:PUBLISH
X-PUBLISHED-TTL:P3D
REFRESH-INTERVAL:P3D
CALSCALE:GREGORIAN
BEGIN:VEVENT
DTSTART:20130220T170000Z
DTEND:20130220T190000Z
X-MICROSOFT-CDO-ALLDAYEVENT:FALSE
SUMMARY:Greater Shelby Chamber ~ "State of the County" Presentation
DESCRIPTION:Greater Shelby Chamber February Membership Luncheon To Feature "State of the County" Presentation\n\n\n\nThe Chamber's February Membership Luncheon will feature a "State of the County" presentation on February 20.  The luncheon meeting will be held in the banquet hall at the Pelham Civic Complex.  Doors will open at 11:00AM for business networking and the program will run from 11:50AM-1:00PM.\n\n\n\nShelby County Commission Chair Lindsey Allison will share comments regarding the County on behalf of the County Commission.\n\n\n\nThe cost is $17 per person for Chamber members and $25 per person for "Future" Members and includes lunch. Members may request a Reserved Corporate Table of Eight for $175. Please contact the Chamber to request a Corporate Table. For more information\, or to make a reservation\, please contact the Chamber at info@shelbychamber.org\, by telephone at 663-4542 or use online registration above.
X-ALT-DESC;FMTTYPE=text/html:Greater Shelby Chamber February Membership Luncheon To Feature &ldquo\;State of the County&rdquo\; Presentation<br />\n<br />\nThe Chamber&rsquo\;s February Membership Luncheon will feature a &ldquo\;State of the County&rdquo\; presentation on February 20.&nbsp\; The luncheon meeting will be held in the banquet hall at the Pelham Civic Complex.&nbsp\; Doors will open at 11:00AM for business networking and the program will run from 11:50AM-1:00PM.<br />\n<br />\nShelby County Commission Chair Lindsey Allison will share comments regarding the County on behalf of the County Commission.<br />\n<br />\nThe cost is $17 per person for Chamber members and $25 per person for &ldquo\;Future&rdquo\; Members and includes lunch. Members may request a Reserved Corporate Table of Eight for $175. Please contact the Chamber to request a Corporate Table. For more information\, or to make a reservation\, please contact the Chamber at info@shelbychamber.org\, by telephone at 663-4542 or use online registration above.
LOCATION:Pelham Civic Complex 500 Amphitheater Road\, Pelham AL 35124 (205) 620-6448
UID:e.145.4503
SEQUENCE:3
DTSTAMP:20260424T171958Z
URL:https://business.shelbychamber.org/events/details/greater-shelby-chamber-state-of-the-county-presentation-02-20-2013-4503
END:VEVENT

END:VCALENDAR
