BEGIN:VCALENDAR
VERSION:2.0
PRODID:-//ChamberMaster//Event Calendar 2.0//EN
METHOD:PUBLISH
X-PUBLISHED-TTL:P3D
REFRESH-INTERVAL:P3D
CALSCALE:GREGORIAN
BEGIN:VEVENT
DTSTART:20121207T020000Z
DTEND:20121216T040000Z
X-MICROSOFT-CDO-ALLDAYEVENT:FALSE
SUMMARY:Greetings! Live Play at South City Theatre
DESCRIPTION:Andy has a sweet Catholic mother\, a sour Catholic father and a severely retarded younger brother named Mickey. When he brings his Jewish atheist fiance' to meet the folks on Christmas Eve\, his worst fears about family blow ups are realized. But Mickey\, whose entire vocabulary is "oh boy" and "wow\," suddenly says "Greetings!" An ancient\, wise and witty spirit who is set upon healing the family has borrowed Mickey's body! Fun for the entire family!!
X-ALT-DESC;FMTTYPE=text/html:<div class="page" title="Page 1">\n	<div class="section">\n		<div class="layoutArea">\n			<div class="column">\n				<p>\n					<span style="font-size: 9.000000pt\; font-family: 'ArialMT'">Andy has a sweet Catholic mother\, a sour Catholic father and a severely retarded younger brother named Mickey. When he brings his Jewish atheist fiance&#39\; to meet the folks on Christmas Eve\, his worst fears about family blow ups are realized. But Mickey\, whose entire vocabulary is &quot\;oh boy&quot\; and &quot\;wow\,&quot\; suddenly says &quot\;Greetings!&quot\; An ancient\, wise and witty spirit who is set upon healing the family has borrowed Mickey&#39\;s body! Fun for the entire family!!&nbsp\;</span></p>\n			</div>\n		</div>\n	</div>\n</div>\n
LOCATION:3612 Highway 26\, Columbiana\, AL 35051
UID:e.145.4431
SEQUENCE:3
DTSTAMP:20260424T202305Z
URL:https://business.shelbychamber.org/events/details/greetings-live-play-at-south-city-theatre-12-06-2012-4431
END:VEVENT

END:VCALENDAR
