BEGIN:VCALENDAR
VERSION:2.0
PRODID:-//ChamberMaster//Event Calendar 2.0//EN
METHOD:PUBLISH
X-PUBLISHED-TTL:P3D
REFRESH-INTERVAL:P3D
CALSCALE:GREGORIAN
BEGIN:VEVENT
DTSTART:20150809T000000Z
DTEND:20150809T023000Z
X-MICROSOFT-CDO-ALLDAYEVENT:FALSE
SUMMARY:Groove Daddy
DESCRIPTION:Get ready to get up and dance along with Groove Daddy! These guys play everything from original songs to R&B\, Funk\, Rock and everything in between. Their energy and passion for music will have you dancing in the aisles!
X-ALT-DESC;FMTTYPE=text/html:Get ready to get up and dance along with Groove Daddy! These guys play everything from original songs to R&amp\;B\, Funk\, Rock and everything in between. Their energy and passion for music will have you dancing in the aisles!
LOCATION:Shelby County Arts Council\, Columbiana\, AL
UID:e.145.7718
SEQUENCE:3
DTSTAMP:20260422T182239Z
URL:https://business.shelbychamber.org/events/details/groove-daddy-08-08-2015-7718
END:VEVENT

END:VCALENDAR
