BEGIN:VCALENDAR
VERSION:2.0
PRODID:-//ChamberMaster//Event Calendar 2.0//EN
METHOD:PUBLISH
X-PUBLISHED-TTL:P3D
REFRESH-INTERVAL:P3D
CALSCALE:GREGORIAN
BEGIN:VEVENT
DTSTART:20150808T003000Z
DTEND:20150808T020000Z
X-MICROSOFT-CDO-ALLDAYEVENT:FALSE
SUMMARY:Groove Daddy in Concert
DESCRIPTION:Marc Phillips and Groove Daddy\n\nHigh energy performance by one of Birmingham's most loved bands.  Enjoy their energetic and eclectic blend of R & B\, Rock & Roll\, Ballads\, Blues\, Funk\, Motown\, and Contemporary Gospel.  \n\nDoors open at 7:00pm\, show starts at 7:30pm\n\nTickets $20.00
X-ALT-DESC;FMTTYPE=text/html:<span style="font-size:12pt"><span style="color:#0000ff">Marc Phillips and Groove Daddy<br />\nHigh energy performance by one of Birmingham&#39\;s most loved bands.&nbsp\; Enjoy their energetic and eclectic blend of R &amp\; B\, Rock &amp\; Roll\, Ballads\, Blues\, Funk\, Motown\, and Contemporary Gospel. &nbsp\;<br />\nDoors open at 7:00pm\, show starts at 7:30pm<br />\nTickets $20.00 </span></span><br />\n&nbsp\;
LOCATION:Shelby County Arts Council\, 104 Mildred Street\, Columbiana\, AL 35051
UID:e.145.7766
SEQUENCE:3
DTSTAMP:20260422T183431Z
URL:https://business.shelbychamber.org/events/details/groove-daddy-in-concert-08-07-2015-7766
END:VEVENT

END:VCALENDAR
