BEGIN:VCALENDAR
VERSION:2.0
PRODID:-//ChamberMaster//Event Calendar 2.0//EN
METHOD:PUBLISH
X-PUBLISHED-TTL:P3D
REFRESH-INTERVAL:P3D
CALSCALE:GREGORIAN
BEGIN:VEVENT
DTSTART:20120315T133000Z
DTEND:20120315T150000Z
X-MICROSOFT-CDO-ALLDAYEVENT:FALSE
SUMMARY:GSC & MyMarketStreet.com Workshop ~ "Get Your Business Connected"
DESCRIPTION:"Get Your Business Connected" presented by MyMarketStreet.com\n\n\n\nThe Greater Shelby Chamber of Commerce and MyMarketStreet.com have teamed up to Get Your Business Connected!  Register for this informative workshop and learn how to connect with customers and other businesses throughout the state.\n\n\n\nWe hear so many times to "buy local" but you need to find local first! Many small businesses can't afford expensive traditional advertising methods.  That's why MyMarketStreet wants to offer more online exposure for small to medium sized businesses. And the best part\, it's free to register!\n\n\n\nCome find out how to expand your online presence by registering to attend this workshop!\n\n\n\nExpect to learn what these topics really mean:\n\n\n\nHyper-local:  the new age of search\n\nIncreasing your online exposure\n\nThe Great (technical) Divide\n\nWhy MyMarketStreet?\n\nBut I Already Have a Website / Facebook page\, etc. and more.\n\n\n\nWhen: Thursday\, March 15\, 2012\n\nTime:   8:30 am until 10 am\n\nWhere: Greater Shelby County Chamber of Commerce\, 1301 County Services Drive\, Pelham\n\nInvestment:  No cost.\n\nRegistration: Required by March 13th to be guaranteed a seat.
X-ALT-DESC;FMTTYPE=text/html:<strong>&ldquo\;Get Your Business Connected&rdquo\; presented by MyMarketStreet.com</strong><br />\n<br />\nThe Greater Shelby Chamber of Commerce and MyMarketStreet.com have teamed up to Get Your Business Connected!&nbsp\; Register for this informative workshop and learn how to connect with customers and other businesses throughout the state.<br />\n<br />\nWe hear so many times to &quot\;buy local&quot\; but you need to find local first! Many small businesses can&#39\;t afford expensive traditional advertising methods.&nbsp\; That&#39\;s why MyMarketStreet wants to offer more online exposure for small to medium sized businesses. And the best part\, it&#39\;s free to register!<br />\n<br />\nCome find out how to expand your online presence by registering to attend this workshop!<br />\n<br />\nExpect to learn what these topics really mean:<br />\n<br />\nHyper-local:&nbsp\; the new age of search<br />\nIncreasing your online exposure<br />\nThe Great (technical) Divide<br />\nWhy MyMarketStreet?<br />\nBut I Already Have a Website / Facebook page\, etc. and more.<br />\n<br />\n<strong>When</strong>: Thursday\, March 15\, 2012<br />\n<strong>Time</strong>:&nbsp\;&nbsp\; 8:30 am until 10 am<br />\n<strong>Where</strong>: Greater Shelby County Chamber of Commerce\, 1301 County Services Drive\, Pelham<br />\n<strong>Investment</strong>:&nbsp\; No cost.<br />\n<strong>Registration</strong>: Required by March 13th to be guaranteed a seat.
LOCATION:Greater Shelby County Chamber of Commerce 1301 County Services Drive\, Pelham
UID:e.145.3937
SEQUENCE:3
DTSTAMP:20260425T102700Z
URL:https://business.shelbychamber.org/events/details/gsc-mymarketstreet-com-workshop-get-your-business-connected-03-15-2012-3937
END:VEVENT

END:VCALENDAR
