BEGIN:VCALENDAR
VERSION:2.0
PRODID:-//ChamberMaster//Event Calendar 2.0//EN
METHOD:PUBLISH
X-PUBLISHED-TTL:P3D
REFRESH-INTERVAL:P3D
CALSCALE:GREGORIAN
BEGIN:VEVENT
DTSTART:20170125T170000Z
DTEND:20170125T190000Z
X-MICROSOFT-CDO-ALLDAYEVENT:FALSE
SUMMARY:GSCC 2017 Community Luncheon - "36th Annual Meeting"
DESCRIPTION:Greater Shelby Chamber's 36th Annual Meeting\n\n\n\nThe Chamber's Annual Meeting\, scheduled for January 25 will celebrate the past year's accomplishments under 2016 Chair Paul Rogers' leadership and kick-off the new year of programs and activities under 2017 Chamber Chair Keith Brown's leadership.\n\n\n\nThe event\, presented by Home Instead Senior Care\, will be held at the Pelham Civic Complex & Ice Arena Center with doors opening at 11:00 AM and the program beginning at 11:15AM.  \n\n\n\nA limited number of tickets for $20 per person for Chamber members ($30 for Future Members) and reserved Chairman's\, Platinum\, Gold\, Silver and Corporate tables for 8 remain\, so for more information\, or to make a reservation\, please contact the Chamber at info@shelbychamber.org\, by telephone at 663-4542 or register online.\n\n\n\nNOTE: Investors and "Future" investors that attended the 2017 Shelby County Business Outlook Conference held that morning will automatically receive an entry to the 36th Annual Meeting.
X-ALT-DESC;FMTTYPE=text/html:<br />\n<strong>Greater Shelby Chamber&rsquo\;s 36th Annual Meeting</strong><br />\n<br />\nThe Chamber&rsquo\;s Annual Meeting\, scheduled for January 25 will celebrate the past year&rsquo\;s accomplishments under 2016 Chair Paul Rogers&rsquo\; leadership and kick-off the new year of programs and activities under 2017 Chamber Chair Keith Brown&rsquo\;s leadership.<br />\n<br />\nThe event\, presented by Home Instead Senior Care\, will be held at the Pelham Civic Complex &amp\; Ice Arena Center with doors opening at 11:00 AM and the program beginning at 11:15AM. &nbsp\;<br />\n<br />\nA limited number of tickets for $20 per person for Chamber members ($30 for Future Members) and reserved Chairman&rsquo\;s\, Platinum\, Gold\, Silver and Corporate tables for 8 remain\, so for more information\, or to make a reservation\, please contact the Chamber at info@shelbychamber.org\, by telephone at 663-4542 or register online.<br />\n<br />\n<u><strong>NOTE</strong></u>: <em><strong>Investors and &quot\;Future&quot\; investors that attended the 2017 Shelby County Business Outlook Conference held that morning will automatically receive an entry to the 36th Annual Meeting.</strong></em>
LOCATION:Pelham Civic Complex and Ice Arena 500 Amphitheater Road Pelham\, AL 35124
UID:e.145.10014
SEQUENCE:3
DTSTAMP:20260421T132335Z
URL:https://business.shelbychamber.org/events/details/gscc-2017-community-luncheon-36th-annual-meeting-10014
END:VEVENT

END:VCALENDAR
