BEGIN:VCALENDAR
VERSION:2.0
PRODID:-//ChamberMaster//Event Calendar 2.0//EN
METHOD:PUBLISH
X-PUBLISHED-TTL:P3D
REFRESH-INTERVAL:P3D
CALSCALE:GREGORIAN
BEGIN:VEVENT
DTSTART:20160912T130000Z
DTEND:20160913T200000Z
X-MICROSOFT-CDO-ALLDAYEVENT:FALSE
SUMMARY:GSCC - 2nd Annual Shelby County Student Career Awareness Fair
DESCRIPTION:Seeking Volunteers to Share Expertise at\n\nGreater Shelby Chamber's Career 2nd Annual Awareness Fair\n \n\nThe Greater Shelby County Chamber of Commerce will be hosting its 2nd Annual Career Awareness Fair for all Shelby County 10th grade students from 8:00AM until 3:00PM on Monday\, September 12 and Tuesday\, September 13 at the Shelby County Exhibition Center in Columbiana.\n\n\n\nThe program is an opportunity for business professionals to share 1/2 day or one day with students on the education\, training requirements\, salary range\, workplace expectations and more to be employed in your respective field.\n\n\n\nWe are seeking volunteers in the professions listed below to address students in the real world of work. If you or someone in your organization is interested in sharing your expertise\, please contact Kirk Mancer\, President & CEO at 663-4542\, ext. 101 for more information or any team member at the Chamber office -- 663-4542.\n\n\n\nAgriculture\, Food\, and Natural Resources\n\nArchitecture & Construction\n\nArts\, AV Technology & Communication\n\nBusiness Management & Administration\n\nEducation & Training\n\nFinance\n\nGovernment & Public Administration\n\nHealth Science\n\nHospitality & Tourism\n\nHuman Services\n\nInformation Technology\n\nLaw\, Public Safety\, Corrections\, Security\n\nManufacturing\n\nMarketing\n\nScience\, Technology\, Engineering\, Math\n\nTransportation\, Distribution\, Logistics
X-ALT-DESC;FMTTYPE=text/html:<div style="text-align: center\;"><br />\n<strong>Seeking Volunteers to Share Expertise at</strong></div>\n\n<div style="text-align: center\;"><strong>Greater Shelby Chamber&rsquo\;s Career 2nd Annual Awareness Fair</strong></div>\n&nbsp\;\n\n<div>The Greater Shelby County Chamber of Commerce will be hosting its 2nd Annual Career Awareness Fair for all Shelby County 10th grade students from 8:00AM until 3:00PM on Monday\, September 12 and Tuesday\, September 13 at the Shelby County Exhibition Center in Columbiana.<br />\n<br />\nThe program is an opportunity for business professionals to share 1/2 day or one day with students on the education\, training requirements\, salary range\, workplace expectations and more to be employed in your respective field.<br />\n<br />\nWe are seeking volunteers in the professions listed below to address students in the real world of work. If you or someone in your organization is interested in sharing your expertise\, please contact Kirk Mancer\, President &amp\; CEO at 663-4542\, ext. 101 for more information or any team member at the Chamber office -- 663-4542.<br />\n<br />\nAgriculture\, Food\, and Natural Resources<br />\nArchitecture &amp\; Construction<br />\nArts\, AV Technology &amp\; Communication<br />\nBusiness Management &amp\; Administration<br />\nEducation &amp\; Training<br />\nFinance<br />\nGovernment &amp\; Public Administration<br />\nHealth Science<br />\nHospitality &amp\; Tourism<br />\nHuman Services<br />\nInformation Technology<br />\nLaw\, Public Safety\, Corrections\, Security<br />\nManufacturing<br />\nMarketing<br />\nScience\, Technology\, Engineering\, Math<br />\nTransportation\, Distribution\, Logistics</div>\n
LOCATION:Shelby County Exhibition Center 86 Argo Road Columbiana\, AL 35051
UID:e.145.9399
SEQUENCE:3
DTSTAMP:20260421T184036Z
URL:https://business.shelbychamber.org/events/details/gscc-2nd-annual-shelby-county-student-career-awareness-fair-09-12-2016-9399
END:VEVENT

END:VCALENDAR
