BEGIN:VCALENDAR
VERSION:2.0
PRODID:-//ChamberMaster//Event Calendar 2.0//EN
METHOD:PUBLISH
X-PUBLISHED-TTL:P3D
REFRESH-INTERVAL:P3D
CALSCALE:GREGORIAN
BEGIN:VEVENT
DTSTART:20150429T160000Z
DTEND:20150429T180000Z
X-MICROSOFT-CDO-ALLDAYEVENT:FALSE
SUMMARY:GSCC April 2015 Community Luncheon "2014-2015 Student & Educator of the Year Luncheon"
DESCRIPTION:GSCC April 2015 Community Luncheon "2014-2015 Student & Educator of the Year Program"\n\n\n\nThe Greater Shelby County Chamber of Commerce is pleased to announce its 2nd annual Educator of the Year recognition program.  Educators play a vital role in the lives of Shelby County children\, impact our communities every day and help develop the workforce which our Shelby County businesses and organizations will need in the years ahead.  As such\, the Chamber launched this recognition program to celebrate excellence in the teaching profession and inform our community of the exceptional quality of instruction delivered throughout Shelby County. All nominees will be recognized and two recipients (elementary and secondary educator) will receive a one-time financial investment to assist their continuing development.\n\n\n\nAlso\, the Chamber is pleased to announce its 2nd annual Student of the Year recognition program.  Shelby County students are our potential business and community leaders and will comprise a significant portion of our workforce in the future.  As such\, the Chamber launched this recognition program to celebrate student excellence in the classroom throughout Shelby County. All nominees will be recognized and two recipients (college track and career track student) will receive a one-time financial investment to assist their continuing development.\n\n\n\nThe Chamber will recognize all nominations and announce the recipients at the April 29 membership luncheon which is sponsored by America's First Federal Credit Union. All Students and Educators must be nominated by their principal. If you have any questions please contact Keyla Handley at keyla@shelbychamber.org or 663-4542\, ext. 106.\n\n\n\nThe luncheon will be held from 11:00AM until 1:00PM on April 29 at the Pelham Civic Complex and Ice Arena\, 500 Amphitheater Road\, Pelham. Investment is $20 members\, $30 "Future" members.  RSVP is required by noon Monday\, April 27.  Register by calling the Chamber at 663-4542 or click the Register Online button above.
X-ALT-DESC;FMTTYPE=text/html:<strong>GSCC April 2015 Community Luncheon &quot\;2014-2015 Student &amp\; Educator of the Year Program&quot\;</strong><br />\n<br />\nThe Greater Shelby County Chamber of Commerce is pleased to announce its 2nd annual Educator of the Year recognition program.&nbsp\; Educators play a vital role in the lives of Shelby County children\, impact our communities every day and help develop the workforce which our Shelby County businesses and organizations will need in the years ahead.&nbsp\; As such\, the Chamber launched this recognition program to celebrate excellence in the teaching profession and inform our community of the exceptional quality of instruction delivered throughout Shelby County. All nominees will be recognized and two recipients (elementary and secondary educator) will receive a one-time financial investment to assist their continuing development.<br />\n<br />\nAlso\, the Chamber is pleased to announce its 2nd annual Student of the Year recognition program.&nbsp\; Shelby County students are our potential business and community leaders and will comprise a significant portion of our workforce in the future.&nbsp\; As such\, the Chamber launched this recognition program to celebrate student excellence in the classroom throughout Shelby County. All nominees will be recognized and two recipients (college track and career track student) will receive a one-time financial investment to assist their continuing development.<br />\n<br />\nThe Chamber will recognize all nominations and announce the recipients at the April 29 membership luncheon which is sponsored by America&#39\;s First Federal Credit Union. All Students and Educators must be nominated by their principal. If you have any questions please contact Keyla Handley at keyla@shelbychamber.org or 663-4542\, ext. 106.<br />\n<br />\nThe luncheon will be held from 11:00AM until 1:00PM on April 29 at the Pelham Civic Complex and Ice Arena\, 500 Amphitheater Road\, Pelham. Investment is $20 members\, $30 &quot\;Future&quot\; members.&nbsp\; RSVP is required by noon Monday\, April 27.&nbsp\; Register by calling the Chamber at 663-4542 or click the Register Online button above.
LOCATION:Pelham Civic Complex and Ice Arena 500 Amphitheater Road Pelham AL 35124
UID:e.145.7597
SEQUENCE:3
DTSTAMP:20260423T003404Z
URL:https://business.shelbychamber.org/events/details/gscc-april-2015-community-luncheon-2014-2015-student-educator-of-the-year-luncheon-04-29-2015-7597
END:VEVENT

END:VCALENDAR
