BEGIN:VCALENDAR
VERSION:2.0
PRODID:-//ChamberMaster//Event Calendar 2.0//EN
METHOD:PUBLISH
X-PUBLISHED-TTL:P3D
REFRESH-INTERVAL:P3D
CALSCALE:GREGORIAN
BEGIN:VEVENT
DTSTART:20160831T160000Z
DTEND:20160831T180000Z
X-MICROSOFT-CDO-ALLDAYEVENT:FALSE
SUMMARY:GSCC August "Community Luncheon" - 2nd Annual Shelby County Healthcare Professionals of the Year
DESCRIPTION:GSCC August "Community Luncheon" to Recognize Shelby County Healthcare Professionals of the Year\n\n\n\nThe Greater Shelby Chamber's August Community Luncheon will hold its second annual Healthcare Professional of the Year Program presented by First Commercial Bank\, co-sponsored by Shelby Baptist Medical Center and hosted by the Chamber's Health Services Work Group. This is an opportunity to recognize those individuals who have made an outstanding contribution in healthcare to our communities. Nominations were accepted for any healthcare professional employed in the Shelby County area. The recipients for the Healthcare Professionals of the Year will be announced and presented with an award sponsored by HEALTHSOUTH Lakeshore Rehabilitation Hospital.\n\n\n\nThe Chamber will also feature Health Educator Neika Nix Morgan from St. Vincent's Health System as the guest speaker sharing her expertise on "Simplifying a Healthy Lifestyle in a Busy Life".\n\n\n\nThe August "Community Luncheon" will be held on August 31 in the banquet hall at the Pelham Civic Complex and Ice Arena. Doors will open at 11:00AM for business networking and the program will begin promptly at 11:30AM.\n\n\n\nThe investment is $20 per person for Chamber investors and $30 per person for "Future" investors and includes a luncheon buffet. Reservations requested by noon on Monday\, August 29. Please contact the Chamber at info@shelbychamber.org\, by telephone at 663-4542 or register online.
X-ALT-DESC;FMTTYPE=text/html:<br />\n<strong>GSCC August &quot\;Community Luncheon&quot\; to Recognize Shelby County Healthcare Professionals of the Year</strong><br />\n<br />\nThe Greater Shelby Chamber&rsquo\;s August Community Luncheon will hold its second annual Healthcare Professional of the Year Program presented by <a href="https://firstcommercialbank.synovus.com/">First Commercial Bank</a>\, co-sponsored by <a href="https://www.brookwoodbaptisthealth.com/our-locations/shelby-medical-center-location">Shelby Baptist Medical Center</a> and hosted by the Chamber&#39\;s Health Services Work Group. This is an opportunity to recognize those individuals who have made an outstanding contribution in healthcare to our communities. Nominations were accepted for any healthcare professional employed in the Shelby County area. The recipients for the Healthcare Professionals of the Year will be announced and presented with an award sponsored by <a href="http://healthsouthlakeshorerehab.com/">HEALTHSOUTH Lakeshore Rehabilitation Hospital</a>.<br />\n<br />\nThe Chamber will also feature Health Educator Neika Nix Morgan from St. Vincent&rsquo\;s Health System as the guest speaker sharing her expertise on &ldquo\;Simplifying a Healthy Lifestyle in a Busy Life&rdquo\;.<br />\n<br />\nThe August &ldquo\;Community Luncheon&rdquo\; will be held on August 31 in the banquet hall at the Pelham Civic Complex and Ice Arena. Doors will open at 11:00AM for business networking and the program will begin promptly at 11:30AM.<br />\n<br />\nThe investment is $20 per person for Chamber investors and $30 per person for &ldquo\;Future&rdquo\; investors and includes a luncheon buffet. Reservations requested by noon on Monday\, August 29. Please contact the Chamber at info@shelbychamber.org\, by telephone at 663-4542 or register online.
LOCATION:Pelham Civic Complex & Ice Arena 500 Amphitheater Drive\, Pelham
UID:e.145.9652
SEQUENCE:3
DTSTAMP:20260421T235025Z
URL:https://business.shelbychamber.org/events/details/gscc-august-community-luncheon-2nd-annual-shelby-county-healthcare-professionals-of-the-year-9652
END:VEVENT

END:VCALENDAR
