BEGIN:VCALENDAR
VERSION:2.0
PRODID:-//ChamberMaster//Event Calendar 2.0//EN
METHOD:PUBLISH
X-PUBLISHED-TTL:P3D
REFRESH-INTERVAL:P3D
CALSCALE:GREGORIAN
BEGIN:VEVENT
DTSTART:20150826T160000Z
DTEND:20150826T180000Z
X-MICROSOFT-CDO-ALLDAYEVENT:FALSE
SUMMARY:GSCC August "Community Luncheon" - Shelby County Healthcare Professionals of the Year
DESCRIPTION:GSCC August "Community Luncheon" to Recognize Shelby County Healthcare Professionals of the Year\n\n\n\nThe Greater Shelby Chamber's August Community Luncheon will launch the inaugural Healthcare Professional of the Year Program and will be hosted by the Health Services Work Group.  This is an opportunity for us to recognize those individuals who have made an outstanding contribution in healthcare to our communities.  Nominations were accepted for any healthcare professional employed in the Shelby County area. The August "Community Luncheon" will be held on August 26 in the banquet hall at the Pelham Civic Complex and Ice Arena. Doors will open at 11:00AM for business networking and the program will begin promptly at 11:30AM.\n\n\n\nOrganizations in the Healthcare Industry will be participating in the Showcase Feature which is held during the networking prior to the program.\n\n\n\nThe investment is $20 per person for Chamber members and $30 per person for "Future" members and includes a luncheon buffet. Reservations requested by noon on Monday\, August 24. Please contact the Chamber at info@shelbychamber.org \, by telephone at 663-4542 or use Online Registration.
X-ALT-DESC;FMTTYPE=text/html:<br />\n<strong>GSCC August &quot\;Community Luncheon&quot\; to Recognize Shelby County Healthcare Professionals of the Year</strong><br />\n<br />\nThe Greater Shelby Chamber&rsquo\;s August Community Luncheon will launch the inaugural Healthcare Professional of the Year Program and will be hosted by the Health Services Work Group.&nbsp\; This is an opportunity for us to recognize those individuals who have made an outstanding contribution in healthcare to our communities.&nbsp\; Nominations were accepted for any healthcare professional employed in the Shelby County area. The August &ldquo\;Community Luncheon&rdquo\; will be held on August 26 in the banquet hall at the Pelham Civic Complex and Ice Arena. Doors will open at 11:00AM for business networking and the program will begin promptly at 11:30AM.<br />\n<br />\nOrganizations in the Healthcare Industry will be participating in the Showcase Feature which is held during the networking prior to the program.<br />\n<br />\nThe investment is $20 per person for Chamber members and $30 per person for &ldquo\;Future&rdquo\; members and includes a luncheon buffet. Reservations requested by noon on Monday\, August 24. Please contact the Chamber at info@shelbychamber.org \, by telephone at 663-4542 or use Online Registration.
LOCATION:Pelham Civic Complex & Ice Arena 500 Amphitheater Drive\, Pelham
UID:e.145.7761
SEQUENCE:3
DTSTAMP:20260422T183908Z
URL:https://business.shelbychamber.org/events/details/gscc-august-community-luncheon-shelby-county-healthcare-professionals-of-the-year-08-26-2015-7761
END:VEVENT

END:VCALENDAR
