BEGIN:VCALENDAR
VERSION:2.0
PRODID:-//ChamberMaster//Event Calendar 2.0//EN
METHOD:PUBLISH
X-PUBLISHED-TTL:P3D
REFRESH-INTERVAL:P3D
CALSCALE:GREGORIAN
BEGIN:VEVENT
DTSTART:20160927T160000Z
DTEND:20160927T180000Z
X-MICROSOFT-CDO-ALLDAYEVENT:FALSE
SUMMARY:GSCC Community Luncheon "2016 Annual Safety Awards"
DESCRIPTION:Greater Shelby County Chamber Hosts its\n\n"Annual Safety Awards" Program\n\nat September Community Luncheon\n\n\n\nJoin us on Tuesday\, September 27 for the "Annual Safety Awards" Community Luncheon\, presented by Alabama Power and co-sponsored by APCO Employees Credit Union\, as we honor public safety officials from throughout Shelby County. Each year we are privileged to recognize individuals who have demonstrated outstanding excellence in public safety by presenting them with an award. This year the awards presented are sponsored by A.C. Legg\, Inc.\n\n\n\nThis program is an opportunity for us to personally give thanks to the fire\, police and sheriff personnel\, and honor them for the outstanding service and sacrifices they make each day in keeping our respective communities a safe place to live\, work\, and play.\n\n\n\nThe luncheon will be held from 11:00AM until 1:00PM on Tuesday\, September 27 at the Pelham Civic Complex and Ice Arena\, 500 Amphitheater Drive\, Pelham.\n\n\n\nReservations requested by noon on Friday\, September 23. Investment: Chamber investors $20\, "Future" investors $30. Register online or call the Chamber office at 663-4542.
X-ALT-DESC;FMTTYPE=text/html:<div style="text-align: center\;"><br />\n<strong>Greater Shelby County Chamber&nbsp\;Hosts its<br />\n&quot\;Annual Safety Awards&quot\; Program<br />\nat September Community Luncheon</strong></div>\n\n<div><br />\nJoin us on <strong>Tuesday\, September 27</strong> for the &quot\;Annual Safety Awards&quot\; Community Luncheon\, presented by Alabama Power and co-sponsored by APCO&nbsp\;Employees&nbsp\;Credit Union\,&nbsp\;as we honor public safety officials from throughout Shelby County. Each year we are privileged to recognize individuals who have demonstrated outstanding excellence in public safety by presenting them with an award. This year the awards presented are&nbsp\;sponsored by A.C. Legg\, Inc.<br />\n<br />\nThis program is an opportunity for us to personally give thanks to the fire\, police and sheriff personnel\, and honor them for the outstanding service and sacrifices they make each day in keeping our respective communities a safe place to live\, work\, and play.<br />\n<br />\n<strong>The luncheon will be held from 11:00AM until 1:00PM on Tuesday\, September 27</strong> at the Pelham Civic Complex and Ice Arena\, 500 Amphitheater Drive\, Pelham.<br />\n<br />\nReservations requested by noon on Friday\, September 23. Investment: Chamber investors $20\, &quot\;Future&quot\; investors $30. Register online&nbsp\;or call the Chamber office at 663-4542.</div>\n
LOCATION:Pelham Civic Complex and Ice Arena 500 Amphitheater Road Pelham\, AL 35124
UID:e.145.9719
SEQUENCE:3
DTSTAMP:20260421T184037Z
URL:https://business.shelbychamber.org/events/details/gscc-community-luncheon-2016-annual-safety-awards-09-27-2016-9719
END:VEVENT

END:VCALENDAR
