BEGIN:VCALENDAR
VERSION:2.0
PRODID:-//ChamberMaster//Event Calendar 2.0//EN
METHOD:PUBLISH
X-PUBLISHED-TTL:P3D
REFRESH-INTERVAL:P3D
CALSCALE:GREGORIAN
BEGIN:VEVENT
DTSTART:20160427T160000Z
DTEND:20160427T180000Z
X-MICROSOFT-CDO-ALLDAYEVENT:FALSE
SUMMARY:GSCC Community Luncheon "3rd Annual Student & Educator of the Year"
DESCRIPTION:Greater Shelby Chamber's April Community Luncheon\n\n"3rd Annual Student & Educator of the Year"\n\nThe Greater Shelby County Chamber of Commerce is pleased to announce its "3rd Annual Student and Educator of the Year" recognition program. Educators play a vital role in the lives of Shelby County children\, impact our communities every day and help develop the workforce which our Shelby County businesses and organizations will need in the years ahead.  As such\, the Chamber is launched this recognition program to celebrate excellence in the teaching profession and inform our community of the exceptional quality of instruction delivered throughout Shelby County. All nominees will be recognized and two recipients (elementary and secondary educator) will receive a one-time financial investment to assist their continuing development.\n\n\n\nShelby County students are our potential business and community leaders and will comprise a significant portion of our workforce in the future.  As such\, the Chamber is launched this recognition program to celebrate student excellence in the classroom throughout Shelby County. All nominees will be recognized and two recipients (college track and career track student) will receive a one-time financial investment to assist their continuing development.\n\n\n\nThe Chamber will recognize all of nominations and announce the recipients at the April 27 Community Luncheon which is presented by America's First Federal Credit Union.\n\n\n\nThe Community Luncheon will be held in the banquet hall at the Pelham Civic Complex and Ice Arena on April 27. Doors open at 11:00AM for guests and networking\, hot buffet opens at 11:45AM. The program will conclude at approximately 1:00PM.\n\n\n\nInvestment is $20 investors\, $30 "Future" investors. Reservations requested by noon Monday\, April 25. Register by calling the Chamber at 663-4542\, email info@shelbychamber.org or register online.
X-ALT-DESC;FMTTYPE=text/html:<p style="text-align: center\;"><br />\n<strong>Greater Shelby Chamber&#39\;s April Community Luncheon<br />\n&quot\;3rd Annual Student &amp\; Educator of the Year&quot\;</strong></p>\n\n<p>The Greater Shelby County Chamber of Commerce is pleased to announce its &quot\;3rd Annual Student and Educator of the Year&quot\; recognition program. Educators play a vital role in the lives of Shelby County children\, impact our communities every day and help develop the workforce which our Shelby County businesses and organizations will need in the years ahead.&nbsp\; As such\, the Chamber is launched this recognition program to celebrate excellence in the teaching profession and inform our community of the exceptional quality of instruction delivered throughout Shelby County. All nominees will be recognized and two recipients (elementary and secondary educator) will receive a one-time financial investment to assist their continuing development.<br />\n<br />\nShelby County students are our potential business and community leaders and will comprise a significant portion of our workforce in the future.&nbsp\; As such\, the Chamber is launched this recognition program to celebrate student excellence in the classroom throughout Shelby County. All nominees will be recognized and two recipients (college track and career track student) will receive a one-time financial investment to assist their continuing development.<br />\n<br />\nThe Chamber will recognize all of nominations and announce the recipients at the April 27 Community Luncheon which is presented by America&#39\;s First Federal Credit Union.<br />\n<br />\nThe Community Luncheon will be held in the banquet hall at the Pelham Civic Complex and Ice Arena on April 27. Doors open at 11:00AM for guests and networking\, hot buffet opens at 11:45AM. The program will conclude at approximately 1:00PM.<br />\n<br />\nInvestment is $20 investors\, $30 &quot\;Future&quot\; investors. Reservations requested by noon Monday\, April 25. Register by calling the Chamber at 663-4542\, email info@shelbychamber.org or register online.</p>\n
LOCATION:Pelham Civic Complex and Ice Arena 500 Amphitheater Road Pelham AL 35124
UID:e.145.9458
SEQUENCE:3
DTSTAMP:20260422T075125Z
URL:https://business.shelbychamber.org/events/details/gscc-community-luncheon-3rd-annual-student-educator-of-the-year-04-27-2016-9458
END:VEVENT

END:VCALENDAR
