BEGIN:VCALENDAR
VERSION:2.0
PRODID:-//ChamberMaster//Event Calendar 2.0//EN
METHOD:PUBLISH
X-PUBLISHED-TTL:P3D
REFRESH-INTERVAL:P3D
CALSCALE:GREGORIAN
BEGIN:VEVENT
DTSTART;VALUE=DATE:20170222
DTEND;VALUE=DATE:20170223
TRANSP:TRANSPARENT
X-MICROSOFT-CDO-ALLDAYEVENT:TRUE
SUMMARY:GSCC Community Luncheon "State of Our Communities" Presentations
DESCRIPTION:February "Community Luncheon" To Feature "State of Our Communities" Presentations\n\n\n\n\n\nThe Chamber's February "Community Luncheon" will feature a "State of Our Communities" presentations on February 22. The meeting\, presented by ARC Realty and co-sponsored by the Shelby County Reporter\, will be held in the banquet hall at the Pelham Civic Complex & Ice Arena.  Doors will open at 11:00AM for business networking and the program will begin promptly at 11:30AM.\n\n\n\nIn addition to the great business networking\, mayors from Shelby County's municipalities have been invited to share their thoughts on what lies ahead for their respective communities in 2017.\n\n\n\nThe cost is $20 per person for Chamber investors and $30 per person for "Future" investors and includes a luncheon buffet. For more information\, or to make a reservation\, please contact the Chamber at info@shelbychamber.org\, by telephone at 663-4542 or register online.
X-ALT-DESC;FMTTYPE=text/html:<br />\n<strong>February &ldquo\;Community Luncheon&rdquo\; To Feature &ldquo\;State of Our Communities&rdquo\; Presentations</strong><br />\n<br />\n<br />\nThe Chamber&rsquo\;s February &ldquo\;Community Luncheon&rdquo\; will feature a &ldquo\;State of Our Communities&rdquo\; presentations on February 22. The meeting\, presented by <a href="http://www.arcrealtyco.com/">ARC Realty</a> and co-sponsored by the <a href="http://www.shelbycountyreporter.com/">Shelby County Reporter</a>\, will be held in the banquet hall at the Pelham Civic Complex &amp\; Ice Arena. &nbsp\;Doors will open at 11:00AM for business networking and the program will begin promptly at 11:30AM.<br />\n<br />\nIn addition to the great business networking\, mayors from Shelby County&rsquo\;s municipalities have been invited to share their thoughts on what lies ahead for their respective communities in 2017.<br />\n<br />\nThe cost is $20 per person for Chamber investors and $30 per person for &ldquo\;Future&rdquo\; investors and includes a luncheon buffet. For more information\, or to make a reservation\, please contact the Chamber at info@shelbychamber.org\, by telephone at 663-4542 or register online.
LOCATION:Pelham Civic Complex & Ice Arena 500 Amphitheater Road Pelham\, AL 35124
UID:e.145.10333
SEQUENCE:3
DTSTAMP:20260421T115103Z
URL:https://business.shelbychamber.org/events/details/gscc-community-luncheon-state-of-our-communities-presentations-10333
END:VEVENT

END:VCALENDAR
