BEGIN:VCALENDAR
VERSION:2.0
PRODID:-//ChamberMaster//Event Calendar 2.0//EN
METHOD:PUBLISH
X-PUBLISHED-TTL:P3D
REFRESH-INTERVAL:P3D
CALSCALE:GREGORIAN
BEGIN:VEVENT
DTSTART:20150225T170000Z
DTEND:20150225T190000Z
X-MICROSOFT-CDO-ALLDAYEVENT:FALSE
SUMMARY:GSCC February 2015 Community Luncheon - "State of the County"
DESCRIPTION:The Greater Shelby Chamber has been informed by the Pelham Civic Complex & Ice Arena that the facility will not be available for use tomorrow -- Wednesday\, February 25.  Due to this decision our GSCC February 25 Community Luncheon is canceled.\n\n\n\nPlease feel free to forward this information to anyone scheduled to attend the luncheon from your respective organization.\n\n\n\nRespectfully\,\n\nLisa\n\n\n\nLisa Shapiro\n\n663-4542\n\nlisa@shelbychamber.org
X-ALT-DESC;FMTTYPE=text/html:<br>\n<br>\n<strong>The Greater Shelby Chamber has been informed by the Pelham Civic Complex &amp\; Ice Arena that the facility will not be available for use tomorrow -- Wednesday\, February 25.&nbsp\; Due to this decision our GSCC February 25 Community Luncheon is canceled.</strong><br>\n<br>\nPlease feel free to forward this information to anyone scheduled to attend the luncheon from your respective organization.<br>\n<br>\nRespectfully\,<br>\nLisa<br>\n<br>\nLisa Shapiro<br>\n663-4542<br>\nlisa@shelbychamber.org
LOCATION:Pelham Civic Complex & Ice Arena 500 Amphitheater Road\, Pelham AL 35124 (205) 620-6448(205) 620-6448
UID:e.145.6765
SEQUENCE:3
DTSTAMP:20260423T034858Z
URL:https://business.shelbychamber.org/events/details/gscc-february-2015-community-luncheon-state-of-the-county-02-25-2015-6765
END:VEVENT

END:VCALENDAR
