BEGIN:VCALENDAR
VERSION:2.0
PRODID:-//ChamberMaster//Event Calendar 2.0//EN
METHOD:PUBLISH
X-PUBLISHED-TTL:P3D
REFRESH-INTERVAL:P3D
CALSCALE:GREGORIAN
BEGIN:VEVENT
DTSTART:20160224T170000Z
DTEND:20160224T190000Z
X-MICROSOFT-CDO-ALLDAYEVENT:FALSE
SUMMARY:GSCC February Community Luncheon - "Protecting Your Assets"
DESCRIPTION:GSCC February Community Luncheon - "Protecting Your Assets"\n\n\n\nThe Chamber's February "Community Luncheon"\, hosted by the Governmental Affairs Work Group\, will be held on February 24 at the Pelham Civic Complex and Ice Arena. Doors open at 11:00AM for business networking with a lunch buffet available at 11:45AM.\n\n\n\nThe program will feature a presentation on "Protecting Your Assets". The presentation will offer information and assistance on how Shelby County businesses can reduce criminal activity (i.e. financial crime\, ID theft\, theft by employees\, fraud by mail and telephone\, embezzlement by technology\, counterfeit bills\, etc.).\n\n\n\nThe investment for the program is $20 for Chamber investors\, and $30 for "Future" investors and includes a buffet lunch. Reservations are requested by noon on Monday\, February 22\, so please contact the Greater Shelby County Chamber at 663-4542 or register online.
X-ALT-DESC;FMTTYPE=text/html:<strong>GSCC February Community Luncheon - &quot\;Protecting Your Assets&quot\;</strong><br />\n<br />\nThe Chamber&rsquo\;s February &ldquo\;Community Luncheon&rdquo\;\, hosted by the Governmental Affairs Work Group\, will be held on February 24 at the Pelham Civic Complex and Ice Arena. Doors open at 11:00AM for business networking with a lunch buffet available at 11:45AM.<br />\n<br />\nThe program will feature a presentation on &ldquo\;Protecting Your Assets&rdquo\;. The presentation will offer information and assistance on how Shelby County businesses can reduce criminal activity (i.e. financial crime\, ID theft\, theft by employees\, fraud by mail and telephone\, embezzlement by technology\, counterfeit bills\, etc.).<br />\n<br />\nThe investment for the program is $20 for Chamber investors\, and $30 for &ldquo\;Future&rdquo\; investors and includes a buffet lunch. Reservations are requested by noon on Monday\, February 22\, so please contact the Greater Shelby County Chamber at 663-4542 or register online.
LOCATION:Pelham Civic Complex & Ice Arena 500 Amphitheater Road\, Pelham AL 35124 (205) 620-6448
UID:e.145.8297
SEQUENCE:3
DTSTAMP:20260422T111038Z
URL:https://business.shelbychamber.org/events/details/gscc-february-community-luncheon-protecting-your-assets-02-24-2016-8297
END:VEVENT

END:VCALENDAR
